BEGIN:VCALENDAR
VERSION:2.0
PRODID:-//De Ondernemerswinkel - ECPv6.9.0//NONSGML v1.0//EN
CALSCALE:GREGORIAN
METHOD:PUBLISH
X-WR-CALNAME:De Ondernemerswinkel
X-ORIGINAL-URL:https://deondernemerswinkel.nl
X-WR-CALDESC:Evenementen voor De Ondernemerswinkel
REFRESH-INTERVAL;VALUE=DURATION:PT1H
X-Robots-Tag:noindex
X-PUBLISHED-TTL:PT1H
BEGIN:VTIMEZONE
TZID:UTC
BEGIN:STANDARD
TZOFFSETFROM:+0000
TZOFFSETTO:+0000
TZNAME:UTC
DTSTART:20260101T000000
END:STANDARD
END:VTIMEZONE
BEGIN:VEVENT
DTSTART;TZID=UTC:20260306T110000
DTEND;TZID=UTC:20260306T140000
DTSTAMP:20260422T120607
CREATED:20260227T121607Z
LAST-MODIFIED:20260227T121607Z
UID:969-1772794800-1772805600@deondernemerswinkel.nl
SUMMARY:De Ondernemerswinkel X Zuidoost City: Betaalbare werkruimtes
DESCRIPTION:Workshop voor ondernemers: ontdek betaalbare bedrijfsruimte\, praktische tips en slimme oplossingen voor het vinden van de juiste locatie. \nDe workshop “Betaalbare Werkruimtes voor Ondernemers\,” georganiseerd in samenwerking met Zuidoost City\, biedt ondernemers de kans om meer te leren over het vinden van betaalbare werkruimtes in Amsterdam Zuidoost. Zuidoost City legt hun nieuwe werkwijze uit en geeft praktische tips voor het aanvraagproces. Ondernemers leren hoe ze zich optimaal kunnen voorbereiden\, inclusief het opstellen van een sterk businessplan. Ook worden er handvatten geboden om de kans op een betaalbare ruimte te vergroten\, met aandacht voor timing\, netwerken en flexibiliteit. Deze interactieve sessie biedt waardevolle inzichten en directe begeleiding voor ondernemers. \nBij het huren van een zakelijk pand zijn er verschillende belangrijke onderdelen en documenten die je aan de verhuurder moet presenteren om een succesvolle huurovereenkomst te bereiken. Hier is een lijst van essentiële elementen: \n1. Identificatie en Bedrijfsgegevens \n2. Financiële Documentatie \n3. Businessplan \n4. Referenties \n5. Huurvoorwaarden \n6. Huurdersovereenkomst \n7. Informatie over benodigdheden \n8. Verzekeringen \n9. Eventuele vergunningen \n10. Toekomstige plannen \nHet goed voorbereiden van deze onderdelen en het verstrekken van duidelijke en complete informatie kan het proces van het huren van een zakelijk pand vergemakkelijken en je kansen op het verkrijgen van het gewenste pand vergroten.
URL:https://deondernemerswinkel.nl/event/de-ondernemerswinkel-x-zuidoost-city-betaalbare-werkruimtes-2/
LOCATION:De Ondernemerswinkel\, Bijlmerplein 134\, Amsterdam\, NH\, 1102 DB\, Netherlands
ORGANIZER;CN="De Ondernemerswinkel":MAILTO:deondernemerswinkel@zoiszuidoost.nl
END:VEVENT
BEGIN:VEVENT
DTSTART;TZID=UTC:20260309T180000
DTEND;TZID=UTC:20260309T200000
DTSTAMP:20260422T120607
CREATED:20260227T123801Z
LAST-MODIFIED:20260227T123801Z
UID:973-1773079200-1773086400@deondernemerswinkel.nl
SUMMARY:Workshop: Ondernemen op vrouwelijke kracht.
DESCRIPTION:Ontdek hoe je onderneemt op vrouwelijke kracht: werk met je cyclus voor meer energie\, focus en balans in je mentale en fysieke gezondheid. \nIn het verlengstuk van Vrouwendag is het tijd om de verdieping in te gaan. Wat als jouw maandelijkse cyclus geen obstakel is\, maar juist jouw geheime strategie voor succes? \nTijdens deze workshop laat trainer Natascha Spaans je zien hoe je onderneemt in lijn met je vrouwelijke kracht\, voor meer energie\, helderheid en duurzame resultaten. \nNatascha Spaans is orthomoleculair cyclus therapeut gespecialiseerd in hormonen. Ze heeft een achtergrond in hormonale gezondheid en de vruchtbaarheid van de vrouw\, orthomoleculaire voeding\, gedragsverandering & mentale weerbaarheid. \n“Ik geloof dat elke vrouw haar klachten drastisch kan verminderen als ze leert samenwerken met haar lichaam. Dat begint bij begrijpen wat je lichaam nodig heeft en probeert te vertellen met de signalen die ze elke maand geeft.”_Natascha Spaans \nOndernemen is topsport\, daarom is het belangrijk als ondernemer dat je goed voor je mentale en fysieke gezondheid zorgt. Doordat het vrouwelijke lichaam cyclisch is\, ziet zelfzorg er iedere week van de maand net een beetje anders uit. In deze workshop leer je hoe je lichaam beïnvloed wordt door de hormonen\, wat je lichaam op verschillende momenten nodig heeft én wat je kwaliteiten en valkuilen zijn in iedere fase van je cyclus\, zodat je deze slim kunt inzettten in het ondernemerschap. \nVerwacht een avond vol eyeopeners\, praktische inzichten\, verbinding met andere ondernemers én een hapje en drankje om het compleet te maken. \nStap in je kracht\, vergroot je impact en reserveer jouw plek!
URL:https://deondernemerswinkel.nl/event/workshop-ondernemen-op-vrouwelijke-kracht/
LOCATION:De Ondernemerswinkel\, Bijlmerplein 134\, Amsterdam\, NH\, 1102 DB\, Netherlands
ORGANIZER;CN="De Ondernemerswinkel":MAILTO:deondernemerswinkel@zoiszuidoost.nl
END:VEVENT
BEGIN:VEVENT
DTSTART;TZID=UTC:20260313T110000
DTEND;TZID=UTC:20260313T140000
DTSTAMP:20260422T120607
CREATED:20260227T125239Z
LAST-MODIFIED:20260227T125239Z
UID:976-1773399600-1773410400@deondernemerswinkel.nl
SUMMARY:Workshop: Impact maken en financiering ophalen
DESCRIPTION:Van idee naar financiering: ontdek hoe het Social Impact Fonds werkt en hoe jij je slagingskans als ondernemer vergroot.\n\nWat is het Social Impact Fonds en voor wie is het bedoeld?\n\nIn deze presentatie nemen we je stap voor stap mee in hoe dit fonds werkt\, wie erachter zit en welke ondernemers in aanmerking komen. Je krijgt inzicht in de voorwaarden\, de combinatie met andere financieringen en wat financiers écht willen zien in een aanvraag.\n\nWe besteden aandacht aan:\n-voor welke type ondernemers en initiatieven het fonds geschikt is\n-de criteria en randvoorwaarden voor een succesvolle aanvraag\n-hoe je je inhoudelijk en financieel voorbereidt\n-de stappen van aanvraag tot besluitvorming\n-veelgemaakte valkuilen én hoe je je slagingskans vergroot\n\nNa deze presentatie weet je of het Social Impact Fonds bij jou past\, hoe je je plan scherp neerzet en welke concrete stappen je moet zetten om goed voorbereid een aanvraag in te dienen.\n\nWacht niet langer en reserveer jouw plek!
URL:https://deondernemerswinkel.nl/event/workshop-impact-maken-en-financiering-ophalen/
LOCATION:De Ondernemerswinkel\, Bijlmerplein 134\, Amsterdam\, NH\, 1102 DB\, Netherlands
ORGANIZER;CN="De Ondernemerswinkel":MAILTO:deondernemerswinkel@zoiszuidoost.nl
END:VEVENT
BEGIN:VEVENT
DTSTART;TZID=UTC:20260320T180000
DTEND;TZID=UTC:20260320T193000
DTSTAMP:20260422T120607
CREATED:20260310T083726Z
LAST-MODIFIED:20260310T083726Z
UID:984-1774029600-1774035000@deondernemerswinkel.nl
SUMMARY:Zuidoost Rising 2026
DESCRIPTION:Op 20 maart vindt een bijzondere editie plaats van Zuidoost Rising 2026\, een inspirerende business leadership sessie voor ondernemers en professionals uit Amsterdam Zuidoost en daarbuiten.\n\nTijdens deze exclusieve bijeenkomst deelt Dr. Rachel Naa-Du Laryea – Yale-opgeleide econoom\, voormalig Wall Street professional en auteur van Black Capitalists – haar inzichten over ondernemerschap\, kapitaal en groei in een veranderende wereld.\n\nWat kun je verwachten?\n• Strategieën om je bedrijf sterker te positioneren in een veranderende markt\n• Inzichten over toegang tot kapitaal vanuit Wall Street\n• Praktische groeikaders voor 2026\n• Inspirerende ontmoetingen met andere ondernemers en professionals\n\nDeelname is gratis\, maar het aantal plaatsen is beperkt.\n🔗 Meld je snel aan via www.zvvt.nl\n\nMis deze kans niet om onderdeel te zijn van een krachtige community van ondernemers en leiders.
URL:https://deondernemerswinkel.nl/event/zuidoost-rising-2026/
LOCATION:De Ondernemerswinkel\, Bijlmerplein 134\, Amsterdam\, NH\, 1102 DB\, Netherlands
ORGANIZER;CN="De Ondernemerswinkel":MAILTO:deondernemerswinkel@zoiszuidoost.nl
END:VEVENT
BEGIN:VEVENT
DTSTART;TZID=UTC:20260330T180000
DTEND;TZID=UTC:20260330T200000
DTSTAMP:20260422T120607
CREATED:20260227T130719Z
LAST-MODIFIED:20260301T122504Z
UID:979-1774893600-1774900800@deondernemerswinkel.nl
SUMMARY:Zuidoost Masterclass: Online zichtbaarheid voor ondernemers deel 4 van 4
DESCRIPTION:Voor ondernemers in Amsterdam Zuidoost organiseren het samenwerkingsverband tussen ZVVT\, Ondernemerswinkel Zuidoost en het digitaliseringsoffensief een leuke reeks masterclasses die hands-on input geven voor ondernemers die van hun online aanwezigheid meer werk willen maken. \nStarten en afronden: Branding van je merk (onderneming\, producten en diensten) \n\nStarten branding: Inrichten social mediakanalen\n\nBepaal via welke kanalen je doelgroep(en) te vinden zijn (social mediakanalen\, whatsapp\, website\, een nieuwsbrief of …?).\nAan de slag met het inrichten van je social mediakanaal/ -kanalen (Facebook\, Instagram\, LinkedIn\, TikTok etc).\nMaken van een contentkalender.\nLeren hoe jij je social mediakanalen het beste visueel en technisch kan inrichten en beheren. Gebruikmaken van de eerder gemaakte visuals/ promotiemateriaal.\nMaken van berichten wat je wilt publiceren.\nLeren over de statistieken (likes\, impressies etc.) van je social mediakanalen.\nVerzamelen en analyseren van de statistieken van je social mediakanalen.\nBehandelen van vragen.\n\n\nAfronden branding: Inrichten social mediakanalen\nRecap van alles wat eerder is geleerd.\nBehandelen van vragen\nAfronden en bespreken vervolg.\n\nBelofte/ Resultaat \nJij beschikt over kennis en vaardigheden om je social mediakanalen in te richten en in te zetten om je doelgroep(en) effectief te bereiken. Jij hebt kennis over branding van je producten en diensten. \nRandvoorwaarden deelname masterclass: \n\nDe ondernemer weet te werken met een computer of laptop.\nLaptop en oplader meenemen.\nInloggegevens meenemen van social mediakanalen.\nInloggegevens van Canva\, DALL-E en/of Nano Banana meenemen.\n\nPraktische informatie: \nDe locatie van deze bijeenkomsten is de ondernemerswinkel Zuidoost\, Bijlmerplein 134\, Amsterdam Zuidoost. We voorzien in een eenvoudige snack als tussendoortje\, dus raden deelnemers aan tevoren al wat gegeten te hebben zodat de energie kan blijven stromen.
URL:https://deondernemerswinkel.nl/event/zuidoost-masterclass-online-zichtbaarheid-voor-ondernemers-deel-4-van-4/
LOCATION:De Ondernemerswinkel\, Bijlmerplein 134\, Amsterdam\, NH\, 1102 DB\, Netherlands
ORGANIZER;CN="De Ondernemerswinkel":MAILTO:deondernemerswinkel@zoiszuidoost.nl
END:VEVENT
END:VCALENDAR