BEGIN:VCALENDAR
VERSION:2.0
PRODID:-//De Ondernemerswinkel - ECPv6.9.0//NONSGML v1.0//EN
CALSCALE:GREGORIAN
METHOD:PUBLISH
X-WR-CALNAME:De Ondernemerswinkel
X-ORIGINAL-URL:https://deondernemerswinkel.nl
X-WR-CALDESC:Evenementen voor De Ondernemerswinkel
REFRESH-INTERVAL;VALUE=DURATION:PT1H
X-Robots-Tag:noindex
X-PUBLISHED-TTL:PT1H
BEGIN:VTIMEZONE
TZID:UTC
BEGIN:STANDARD
TZOFFSETFROM:+0000
TZOFFSETTO:+0000
TZNAME:UTC
DTSTART:20250101T000000
END:STANDARD
END:VTIMEZONE
BEGIN:VEVENT
DTSTART;TZID=UTC:20251212T160000
DTEND;TZID=UTC:20251212T200000
DTSTAMP:20260422T165655
CREATED:20251122T145458Z
LAST-MODIFIED:20251122T145458Z
UID:815-1765555200-1765569600@deondernemerswinkel.nl
SUMMARY:Winter Night Market!
DESCRIPTION:Op vrijdag 12 december 2025 verandert De Ondernemerswinkel & Veldboom Studio’s in een Winter Night Market.\n\n\n\nDe Ondernemerswinkel sluit het jaar af met een spectaculaire Night Market. \nOp vrijdag 12 december 2025 verandert De Ondernemerswinkel & Veldboom Studio’s in een Winter Night Market. De Winter Night Market is dé plek waar ondernemers uit Amsterdam Zuidoost en bewoners van Amsterdam Zuidoost elkaar ontmoeten\, inspireren en samen de feestmaand aftrappen. \nLaat je verrassen door lokale ondernemers\, die hun unieke diensten en producten\, creatieve concepten\, fashion\, food & drinks en meer verkopen aan ondernemers en consumenten. \nGeniet van muziek\, heerlijke geuren en echte winter vibes. Beleef. Verbind. Onderneem. \nDe Winter Night Market\, waar Amsterdam Zuidoost straalt! \nMis dit niet – laat je verrassen op onze spectaculaire jaarsafsluiting! \nSpread the news en hou onze socials in de gaten! \nWaar: De Ondernemerswinkel & Veldboom Studio’s in de Amsterdamse Poort \nAdres: Bijlmerplein 131 en 134 \nWanneer: Vrijdag 12 december 2025 van 16:00-20:00 \nVoor wie: Ondernemers\, bewoners en iedereen die houdt van lokale sfeer en inspiratie!
URL:https://deondernemerswinkel.nl/event/winter-night-market/
LOCATION:De Ondernemerswinkel\, Bijlmerplein 134\, Amsterdam\, NH\, 1102 DB\, Netherlands
ORGANIZER;CN="De Ondernemerswinkel":MAILTO:deondernemerswinkel@zoiszuidoost.nl
END:VEVENT
BEGIN:VEVENT
DTSTART;TZID=UTC:20251215T180000
DTEND;TZID=UTC:20251215T210000
DTSTAMP:20260422T165655
CREATED:20251001T170050Z
LAST-MODIFIED:20251001T170050Z
UID:779-1765821600-1765832400@deondernemerswinkel.nl
SUMMARY:Eagle Vibez
DESCRIPTION:Een inspirerende en interactieve workshop\, georganiseerd in samenwerking met Eagle Vibez. \n\nDit unieke programma behandelt alle facetten van het ondernemerschap en biedt deelnemers de kans om hun vaardigheden te verdiepen en hun onderneming naar een hoger niveau te tillen.\n\nTijdens deze workshop word je niet alleen uitgedaagd\, maar ook gecoacht en begeleid. De workshop is ontzettend interactief.  Door middel van praktijkgerichte opdrachten\, strategische inzichten en persoonlijke feedback ontwikkel je een sterke ondernemers mindset en ontdek je nieuwe groeikansen.
URL:https://deondernemerswinkel.nl/event/eagle-vibez-3/
LOCATION:De Ondernemerswinkel\, Bijlmerplein 134\, Amsterdam\, NH\, 1102 DB\, Netherlands
ORGANIZER;CN="De Ondernemerswinkel":MAILTO:deondernemerswinkel@zoiszuidoost.nl
END:VEVENT
END:VCALENDAR