BEGIN:VCALENDAR
VERSION:2.0
PRODID:-//De Ondernemerswinkel - ECPv6.9.0//NONSGML v1.0//EN
CALSCALE:GREGORIAN
METHOD:PUBLISH
X-ORIGINAL-URL:https://deondernemerswinkel.nl
X-WR-CALDESC:Evenementen voor De Ondernemerswinkel
REFRESH-INTERVAL;VALUE=DURATION:PT1H
X-Robots-Tag:noindex
X-PUBLISHED-TTL:PT1H
BEGIN:VTIMEZONE
TZID:UTC
BEGIN:STANDARD
TZOFFSETFROM:+0000
TZOFFSETTO:+0000
TZNAME:UTC
DTSTART:20250101T000000
END:STANDARD
END:VTIMEZONE
BEGIN:VEVENT
DTSTART;TZID=UTC:20251002T170000
DTEND;TZID=UTC:20251002T190000
DTSTAMP:20260422T153235
CREATED:20251001T170336Z
LAST-MODIFIED:20251001T171455Z
UID:781-1759424400-1759431600@deondernemerswinkel.nl
SUMMARY:Find Your Hustle - Johan Cruijff Arena
DESCRIPTION:Ben jij tussen de 16 en 30 jaar\, woon je in Amsterdam Zuidoost en heb je een mbo-achtergrond? Zoek je een stageplek\, werk\, studie of ben je nieuwsgierig naar ondernemen? Dan is dit hét event voor jou! \nOp donderdag 2 oktober 2025 verandert de Johan Cruijff Arena vanaf 17: 00 uur in dé plek waar jouw toekomst centraal staat tijdens het evenement: Find Your Hustle. \nWij staan met De Ondernemerswinkel op dit event om jou hierin te helpen! Kom je gezellig langs? \nWat kun je verwachten? \n\nInspirerende workshops zoals Mindset & Ondernemen en Carrièreplanning\nKansen om jouw netwerk uit te breiden\nOntdek waar jouw talenten liggen en hoe je die kunt inzetten voor betaald werk\nRoutes naar omscholing\, leuke activiteiten of ondersteuning bij inkomen\nInspirerende gesprekken met coaches\, rolmodellen en werkgevers
URL:https://deondernemerswinkel.nl/event/find-your-hustle-johan-cruijff-arena/
END:VEVENT
BEGIN:VEVENT
DTSTART;TZID=UTC:20251010T110000
DTEND;TZID=UTC:20251010T140000
DTSTAMP:20260422T153235
CREATED:20250930T120709Z
LAST-MODIFIED:20250930T120709Z
UID:766-1760094000-1760104800@deondernemerswinkel.nl
SUMMARY:Workshop marketing en inrichting die verkoopt!
DESCRIPTION:Hoe zorg je ervoor dat jouw winkel\, kantoor of stand meer klanten aantrekt én vasthoudt? \nEen goed product is niet genoeg – de manier waarop je jouw ruimte inricht en presenteert\, maakt het verschil. \nIn deze workshop leer je hoe je met slimme keuzes in marketing\, inrichting en klantbeleving jouw onderneming naar een hoger niveau tilt. Van looproutes en kassa-acties tot geur\, sfeer en beleving: elk detail bepaalt hoe jouw klant jouw merk ervaart. Denk bijvoorbeeld aan Rituals – een merk waar de winkelruimte volledig de merkidentiteit ademt. \nWe behandelen o.a.: \n\nHoe creëer je een inrichting die perfect aansluit bij jouw doelgroep?\nWelke rol spelen AI en nieuwe trends in marketing en inrichting?\nHoe gebruik je klantbeleving als groeimotor voor meer klandizie?\nHoe neem je dit mee in je bedrijfsplan en financieringsgesprekken met banken en vastgoedontwikkelaars?\nWat werkt het beste voor een winkel\, een kantoor\, maar ook voor een stand op een markt\, braderie\, bazaar of beurs?\n\nDeze workshop is geschikt voor gevestigde ondernemers die hun fysieke locatie willen optimaliseren\, startende ondernemers die hun eerste pand plannen\, én standhouders die hun kraam of beursplek aantrekkelijker willen maken. \nKom en ontdek hoe jouw ruimte – groot of klein – meer kan zijn dan een plek. Hoe jouw ruimte een beleving kan worden die verkoopt.
URL:https://deondernemerswinkel.nl/event/workshop-marketing-en-inrichting-die-verkoopt/
LOCATION:De Ondernemerswinkel\, Bijlmerplein 134\, Amsterdam\, NH\, 1102 DB\, Netherlands
ORGANIZER;CN="De Ondernemerswinkel":MAILTO:deondernemerswinkel@zoiszuidoost.nl
END:VEVENT
BEGIN:VEVENT
DTSTART;TZID=UTC:20251013T060000
DTEND;TZID=UTC:20251013T210000
DTSTAMP:20260422T153235
CREATED:20251001T165837Z
LAST-MODIFIED:20251001T165837Z
UID:775-1760335200-1760389200@deondernemerswinkel.nl
SUMMARY:Eagle Vibez
DESCRIPTION:Een inspirerende en interactieve workshop\, georganiseerd in samenwerking met Eagle Vibez. \n\nDit unieke programma behandelt alle facetten van het ondernemerschap en biedt deelnemers de kans om hun vaardigheden te verdiepen en hun onderneming naar een hoger niveau te tillen.\n\nTijdens deze workshop word je niet alleen uitgedaagd\, maar ook gecoacht en begeleid. De workshop is ontzettend interactief.  Door middel van praktijkgerichte opdrachten\, strategische inzichten en persoonlijke feedback ontwikkel je een sterke ondernemers mindset en ontdek je nieuwe groeikansen.
URL:https://deondernemerswinkel.nl/event/eagle-vibez/
LOCATION:De Ondernemerswinkel\, Bijlmerplein 134\, Amsterdam\, NH\, 1102 DB\, Netherlands
ORGANIZER;CN="De Ondernemerswinkel":MAILTO:deondernemerswinkel@zoiszuidoost.nl
END:VEVENT
BEGIN:VEVENT
DTSTART;TZID=UTC:20251013T193000
DTEND;TZID=UTC:20251013T203000
DTSTAMP:20260422T153235
CREATED:20251001T160733Z
LAST-MODIFIED:20251001T160733Z
UID:769-1760383800-1760387400@deondernemerswinkel.nl
SUMMARY:Balans vinden tussen onafhankelijk ondernemen en sociaal ondernemerschap
DESCRIPTION:Een sociale onderneming runnen voelt vaak als een koorddans. Aan de ene kant wil je echte maatschappelijke impact maken\, aan de andere kant moet je bedrijf financieel gezond blijven. Veel sociaal ondernemers herkennen de worsteling: \n\n\nHoe zorg ik dat ik mezelf uitkeer en niet alles in het sociale doel stop?\n\n\nHoe vraag ik met vertrouwen geld voor mijn werk\, zonder schuldgevoel of kritiek?\n\n\nHoe voorkom ik dat ik volledig afhankelijk word van subsidies of juist te veel leun op commerciële klanten?\n\n\nIn deze interactieve workshop gaan we in op het spanningsveld tussen purpose en profit. Je krijgt praktische inzichten en tips om je onderneming duurzaam te laten groeien\, zonder je missie uit het oog te verliezen.\nDeze sessie is speciaal bedoeld voor ondernemers die hun zakelijk model willen versterken én trouw willen blijven aan hun maatschappelijke missie.
URL:https://deondernemerswinkel.nl/event/balans-vinden-tussen-onafhankelijk-ondernemen-en-sociaal-ondernemerschap/
ORGANIZER;CN="De Ondernemerswinkel":MAILTO:deondernemerswinkel@zoiszuidoost.nl
END:VEVENT
BEGIN:VEVENT
DTSTART;TZID=UTC:20251020T180000
DTEND;TZID=UTC:20251020T210000
DTSTAMP:20260422T153235
CREATED:20251001T171059Z
LAST-MODIFIED:20251017T143840Z
UID:783-1760983200-1760994000@deondernemerswinkel.nl
SUMMARY:Zuidoost Masterclass online zichtbaarheid voor ondernemers – deel 1
DESCRIPTION:Voor ondernemers in Amsterdam Zuidoost organiseren het samenwerkingsverband tussen ZVVT\, Ondernemerswinkel Zuidoost en het digitaliseringsoffensief een leuke reeks masterclasses die hands-on input geven voor ondernemers die van hun online aanwezigheid meer werk willen maken. \nInhoud van deze sessie: \nBepalen online zichtbaarheid met ChatGPT\, Llama of Gemini \n\nBepalen van wat online zichtbaarheid is.\nBepalen van je doelgroep(en).\nBepalen van wat je wilt promoten (bijvoorbeeld een evenement\, een workshop\, een cursus\, een buurtfeest of verkoop van je producten en diensten).\nBepalen van de doelen wat je wilt bereiken met je promotie (alleen zichtbaarheid of wil je ook dat mensen je diensten of producten kopen?).\nMaak gebruik van ChatGPT\, Llama of Gemini om te brainstormen en je te ondersteunen bij bovenstaande vragen.\nBehandelen van vragen.\n\nBelofte/ Resultaat \nJij weet hoe je er voor staat en wie je waarmee moet bereiken om je zichtbaarheid te vergroten. \nRandvoorwaarden deelname masterclass: \n\nDe ondernemer weet te werken met een computer of laptop.\nLaptop en oplader meenemen.\nInloggegevens meenemen van social mediakanalen.\n\nInloggegevens meenemen van ChatGPT\, Llama of Gemini \nPraktische informatie: \nDe locatie van deze bijeenkomsten is de ondernemerswinkel Zuidoost\, Bijlmerplein 134\, Amsterdam Zuidoost. We voorzien in een eenvoudige snack als tussendoortje\, dus raden deelnemers aan tevoren al wat gegeten te hebben zodat de energie kan blijven stromen. \n 
URL:https://deondernemerswinkel.nl/event/zuidoost-masterclass-sessie-1-van-4-online-zichtbaarheid/
LOCATION:De Ondernemerswinkel\, Bijlmerplein 134\, Amsterdam\, NH\, 1102 DB\, Netherlands
ORGANIZER;CN="De Ondernemerswinkel":MAILTO:deondernemerswinkel@zoiszuidoost.nl
END:VEVENT
BEGIN:VEVENT
DTSTART;TZID=UTC:20251021T193000
DTEND;TZID=UTC:20251021T203000
DTSTAMP:20260422T153235
CREATED:20251001T161137Z
LAST-MODIFIED:20251001T161137Z
UID:772-1761075000-1761078600@deondernemerswinkel.nl
SUMMARY:Due Diligence in financiële planning voor ondernemers
DESCRIPTION:Een goede financiële strategie is onmisbaar voor iedere ondernemer – toch beginnen velen er te laat mee. In deze workshop draait alles om bewustwording rond financiële planning en het inzicht krijgen in welke begeleiding je echt nodig hebt.\nOnderwerpen die aan bod komen:\n\n\nHoe herken en kies je een betrouwbare financieel planner?\n\n\nWat is het verschil tussen budgetcoaching en uitgebreide financiële planning?\n\n\nWelke onderdelen horen er allemaal bij financiële planning (cashflow\, risico’s\, pensioen\, investeren)?\n\n\nWat zijn de gevolgen als je er te laat mee begint?\n\n\nNa deze sessie weet je welke vragen je moet stellen\, waar je op moet letten en hoe je een plan maakt dat je onderneming én je toekomst ondersteunt.\nDeze workshop is ideaal voor ondernemers die meer grip willen krijgen op hun financiën en met vertrouwen aan een duurzame groei willen bouwen.
URL:https://deondernemerswinkel.nl/event/due-diligence-in-financiele-planning-voor-ondernemers/
ORGANIZER;CN="De Ondernemerswinkel":MAILTO:deondernemerswinkel@zoiszuidoost.nl
END:VEVENT
END:VCALENDAR