BEGIN:VCALENDAR
VERSION:2.0
PRODID:-//De Ondernemerswinkel - ECPv6.9.0//NONSGML v1.0//EN
CALSCALE:GREGORIAN
METHOD:PUBLISH
X-ORIGINAL-URL:https://deondernemerswinkel.nl
X-WR-CALDESC:Evenementen voor De Ondernemerswinkel
REFRESH-INTERVAL;VALUE=DURATION:PT1H
X-Robots-Tag:noindex
X-PUBLISHED-TTL:PT1H
BEGIN:VTIMEZONE
TZID:UTC
BEGIN:STANDARD
TZOFFSETFROM:+0000
TZOFFSETTO:+0000
TZNAME:UTC
DTSTART:20240101T000000
END:STANDARD
END:VTIMEZONE
BEGIN:VEVENT
DTSTART;TZID=UTC:20240510T110000
DTEND;TZID=UTC:20240510T140000
DTSTAMP:20260420T145707
CREATED:20250115T095354Z
LAST-MODIFIED:20250115T095354Z
UID:587-1715338800-1715349600@deondernemerswinkel.nl
SUMMARY:Workshop: Branding & LinkedIn
DESCRIPTION:Workshop: Branding & LinkedIn\n  \n\n\n\n\nVerdiep je in branding & LinkedIn optimalisatie tijdens onze workshop. Leer essentiële strategieën voor professioneel succes. \nStreef naar professionele excellentie met onze workshop over LinkedIn en CV optimalisatie. \nIn een tijdperk waarin digitale aanwezigheid cruciaal is\, is het bouwen van een overtuigend online merk essentieel voor succes. Tijdens onze workshop dompelen we je onder in de wereld van effectieve personal branding en netwerken. Ontdek geavanceerde strategieën voor het optimaliseren van je LinkedIn-profiel. Van het scherpstellen van je boodschap tot het benutten van de kracht van sociale media. \nNiet alleen zal onze begeleiding en praktische oefeningen je helpen om je professionele doelen te bereiken\, maar je zult ook met hernieuwd vertrouwen en inspiratie vooruitgaan in de competitieve wereld van vandaag. \nBereid je voor om je carrière te transformeren en je potentieel volledig te benutten. Laat ons je begeleiden op je reis naar succes! \n 
URL:https://deondernemerswinkel.nl/event/workshop-branding-linkedin/
ORGANIZER;CN="De Ondernemerswinkel":MAILTO:deondernemerswinkel@zoiszuidoost.nl
END:VEVENT
BEGIN:VEVENT
DTSTART;TZID=UTC:20240517T110000
DTEND;TZID=UTC:20240517T140000
DTSTAMP:20260420T145707
CREATED:20250115T095511Z
LAST-MODIFIED:20250115T095511Z
UID:590-1715943600-1715954400@deondernemerswinkel.nl
SUMMARY:Workshop: Stimuleer de vraag naar jouw dienst!
DESCRIPTION:Workshop: Stimuleer de vraag naar jouw dienst!\n  \n\n\n\n\nOntdek hoe je de vraag naar jouw dienst kunt stimuleren en je bedrijf naar nieuwe hoogten kunt tillen. \nDe workshop ‘Stimuleer de Vraag naar Jouw Dienst’ biedt een diepgaand inzicht in strategieën en tactieken om de vraag naar jouw dienst te vergroten en je bedrijf naar nieuwe hoogten te tillen. \nTijdens deze interactieve sessie zul je leren hoe je effectieve marketing- en verkoopstrategieën kunt implementeren om de interesse van potentiële klanten te wekken en om te zetten in daadwerkelijke aankopen. We zullen dieper ingaan op het begrijpen van de behoeften en wensen van jouw doelgroep\, het creëren van overtuigende marketingmateriaal en het opbouwen van waardevolle relaties met klanten. \nOf je nu een start-up runt of een gevestigd bedrijf hebt\, deze workshop zal je voorzien van de kennis en tools die je nodig hebt om jouw bedrijf te laten groeien en bloeien in een competitieve markt. \nSchrijf je vandaag nog in en begin met het ontwikkelen van de strategieën die jouw bedrijf naar succes zullen leiden! \n 
URL:https://deondernemerswinkel.nl/event/workshop-stimuleer-de-vraag-naar-jouw-dienst/
ORGANIZER;CN="De Ondernemerswinkel":MAILTO:deondernemerswinkel@zoiszuidoost.nl
END:VEVENT
BEGIN:VEVENT
DTSTART;TZID=UTC:20240524T110000
DTEND;TZID=UTC:20240524T140000
DTSTAMP:20260420T145707
CREATED:20250115T095624Z
LAST-MODIFIED:20250115T095624Z
UID:593-1716548400-1716559200@deondernemerswinkel.nl
SUMMARY:Workshop: Sparen en beleggen voor ondernemers
DESCRIPTION:Workshop: Sparen en beleggen voor ondernemers\n  \n\n\n\n\nLet op! Dit is een workshop voor ondernemers die minimaal 2 jaar fulltime succesvol ondernemen en qua inkomen grotendeels afhankelijk zijn van het inkomen gegenereerd uit hun onderneming! \nOntdek de kracht van sparen en beleggen voor ondernemers. Leer over diverse investeringsopties en hoe ze passen bij jouw financiële doelen. \nSluit je aan bij onze workshop die zich richt op sparen en beleggen voor ondernemers. Deze workshop verzorgen wij samen met onze partner ABN AMRO. Tijdens deze sessie zullen we een breed scala aan beleggingsopties verkennen\, waaronder aandelen\, obligaties\, vastgoed\, en fondsen. Leer hoe je deze opties kunt evalueren en strategisch kunt inzetten om jouw bedrijf en persoonlijke financiën te laten groeien. \nOntdek hoe je risico’s kunt beheren\, rendement kunt maximaliseren en jouw vermogen kunt beschermen in een steeds veranderende economische omgeving. \nOf je nu een doorgewinterde ondernemer bent of net begint met investeren\, deze workshop biedt waardevolle inzichten en praktische tips om jouw financiële doelstellingen te bereiken. \nSchrijf je vandaag nog in en neem de eerste stap naar financiële vrijheid en welvaart! \n 
URL:https://deondernemerswinkel.nl/event/workshop-sparen-en-beleggen-voor-ondernemers/
ORGANIZER;CN="De Ondernemerswinkel":MAILTO:deondernemerswinkel@zoiszuidoost.nl
END:VEVENT
BEGIN:VEVENT
DTSTART;TZID=UTC:20240531T100000
DTEND;TZID=UTC:20240531T170000
DTSTAMP:20260420T145707
CREATED:20250115T095729Z
LAST-MODIFIED:20250115T095729Z
UID:596-1717149600-1717174800@deondernemerswinkel.nl
SUMMARY:Maak een afspraak voor een 1 op 1 gesprek!
DESCRIPTION:Maak een afspraak voor een 1 op 1 gesprek!\n  \n\n\n\n\nDeze vrijdag 31 mei staat onze agenda voor jou open! \nHeb je vragen over je bedrijf? Wil je graag even sparren? Of misschien heb je wel specifieke vragen? Hiervoor kun je ook terecht bij De Ondernemerswinkel! Je kunt zo gewoon bij ons binnenlopen óf een afspraak maken via onze kalender op de website www.deondernemerswinkel.nl. De Ondernemerswinkel is elke vrijdag geopend van 10.00 tot 17.00 \n 
URL:https://deondernemerswinkel.nl/event/maak-een-afspraak-voor-een-1-op-1-gesprek/
ORGANIZER;CN="De Ondernemerswinkel":MAILTO:deondernemerswinkel@zoiszuidoost.nl
END:VEVENT
BEGIN:VEVENT
DTSTART;TZID=UTC:20240531T170000
DTEND;TZID=UTC:20240531T190000
DTSTAMP:20260420T145707
CREATED:20250115T095839Z
LAST-MODIFIED:20250115T095839Z
UID:599-1717174800-1717182000@deondernemerswinkel.nl
SUMMARY:Kom je ook naar onze borrel?
DESCRIPTION:Kom je ook naar onze borrel?\n  \n\n\n\n\nElke laatste vrijdag van de maand is het weer tijd voor onze maandelijkse borrel! Ben jij er ook bij? \nLET OP!! DEZE KEER STAAT ONZE BORREL IN HET TEKEN VAN “DE WEEK VAN ZUIDOOST”. WE HOUDEN DE BORREL DAAROM IN SAMENWERKING MET ZO=ZUIDOOST IN NO LIMIT!! \nOntmoet gelijkgestemden\, wissel ideeën uit en bouw aan je netwerk. \nDeze borrel is dé plek om te connecten met mensen die jouw enthousiasme delen en wellicht zelfs willen bijdragen aan jouw succes. Het is niet alleen een avond om te genieten\, maar ook om te groeien! \n 
URL:https://deondernemerswinkel.nl/event/kom-je-ook-naar-onze-borrel/
ORGANIZER;CN="De Ondernemerswinkel":MAILTO:deondernemerswinkel@zoiszuidoost.nl
END:VEVENT
END:VCALENDAR