BEGIN:VCALENDAR
VERSION:2.0
PRODID:-//De Ondernemerswinkel - ECPv6.9.0//NONSGML v1.0//EN
CALSCALE:GREGORIAN
METHOD:PUBLISH
X-ORIGINAL-URL:https://deondernemerswinkel.nl
X-WR-CALDESC:Evenementen voor De Ondernemerswinkel
REFRESH-INTERVAL;VALUE=DURATION:PT1H
X-Robots-Tag:noindex
X-PUBLISHED-TTL:PT1H
BEGIN:VTIMEZONE
TZID:UTC
BEGIN:STANDARD
TZOFFSETFROM:+0000
TZOFFSETTO:+0000
TZNAME:UTC
DTSTART:20240101T000000
END:STANDARD
END:VTIMEZONE
BEGIN:VEVENT
DTSTART;TZID=UTC:20240209T103000
DTEND;TZID=UTC:20240209T150000
DTSTAMP:20260424T112952
CREATED:20250115T093723Z
LAST-MODIFIED:20250115T093723Z
UID:548-1707474600-1707490800@deondernemerswinkel.nl
SUMMARY:Hoe maak jij optimaal gebruik van ChatGPT voor jouw onderneming?
DESCRIPTION:Hoe maak jij optimaal gebruik van ChatGPT voor jouw onderneming?\n  \n\n\n\n\nOntdek de kracht van AI met AI Genius! Leer AI toepassen in je bedrijf en ontdek de kracht van ChatGPT voor jouw onderneming!! \nMis deze kans niet om voorop te lopen in de digitale revolutie. Als ondernemer is het essentieel om op de hoogte te blijven van innovatieve tools zoals ChatGPT. Deze workshop biedt je praktische kennis en vaardigheden om AI effectief in te zetten\, waardoor je bedrijf efficiënter\, productiever en concurrerender wordt. \nWat kun je verwachten van deze workshop? Deze workshop is meer dan alleen een introductie. Het is een hands-on ervaring waarbij je leert hoe je ChatGPT effectief kunt inzetten voor verschillende aspecten van je bedrijf\, dus neem dan ook je laptop mee want we gaan direct aan de slag! \nOnderwerpen die aan bod komen zijn onder andere: \n\nIntroductie tot ChatGPT en AI in het bedrijfsleven: een overzicht van wat ChatGPT is\, hoe het werkt\, en de rol van kunstmatige intelligentie in de moderne bedrijfswereld.\nAutomatisering van klantenservice: leer hoe ChatGPT kan helpen bij het beantwoorden van klantvragen\, waardoor je tijd en middelen bespaart.\nContent Creatie: ontdek hoe je met ChatGPT snel en efficiënt hoogwaardige content kunt genereren voor je website\, blog of sociale media.\nData analyse en inzichten: zie hoe ChatGPT complexe data kan analyseren en waardevolle inzichten kan bieden voor je bedrijfsstrategie.\nPersoonlijke Assistentie: het maken van je eigen GPT voor jouw eigen onderneming\, zodat je makkelijker je vragen kan stellen aan ChatGPT.\n\nVoor wie is deze workshop? of je nu een startende ondernemer bent of een gevestigde bedrijfseigenaar\, deze workshop is voor iedereen die geïnteresseerd is in het benutten van de nieuwste technologieën om hun bedrijf te verbeteren. Voor deze workshop is geen voorkennis van AI of programmeren nodig. \n 
URL:https://deondernemerswinkel.nl/event/hoe-maak-jij-optimaal-gebruik-van-chatgpt-voor-jouw-onderneming/
ORGANIZER;CN="De Ondernemerswinkel":MAILTO:deondernemerswinkel@zoiszuidoost.nl
END:VEVENT
BEGIN:VEVENT
DTSTART;TZID=UTC:20240216T100000
DTEND;TZID=UTC:20240216T133000
DTSTAMP:20260424T112952
CREATED:20250115T093924Z
LAST-MODIFIED:20250115T093924Z
UID:551-1708077600-1708090200@deondernemerswinkel.nl
SUMMARY:Evenwichtskunst: workshop voor werk-privé balans.
DESCRIPTION:Evenwichtskunst: workshop voor werk-privé balans.\n  \n\n\n\n\nDuik met ons in de kunst van balans! Ontdek in onze workshop slimme strategieën om de lijn tussen werk en privé te beheersen. \nVoel je de druk tussen werk en privéleven? Ontdek met onze workshop de geheimen van balans en breng harmonie in jouw dagelijkse routine! \nIn deze meeslepende workshop duiken we diep in de kunst van balans tussen werk en privé. Leer doeltreffende strategieën om stress te verminderen\, efficiënter met je tijd om te gaan en een gezonde levensstijl te creëren. Ontwikkel vaardigheden die je helpen om de uitdagingen van het moderne leven met vertrouwen aan te gaan. \nOnze deskundige sprekers delen niet alleen inzichten over time-management en stressreductie\, maar bieden ook praktische tips voor het cultiveren van een gebalanceerde levensstijl. Of je nu worstelt met een overvolle agenda of gewoon op zoek bent naar meer rust\, deze workshop biedt concrete tools om jouw werk en privé in harmonie te brengen. \n 
URL:https://deondernemerswinkel.nl/event/evenwichtskunst-workshop-voor-werk-prive-balans/
ORGANIZER;CN="De Ondernemerswinkel":MAILTO:deondernemerswinkel@zoiszuidoost.nl
END:VEVENT
BEGIN:VEVENT
DTSTART;TZID=UTC:20240223T143000
DTEND;TZID=UTC:20240223T170000
DTSTAMP:20260424T112952
CREATED:20250115T094039Z
LAST-MODIFIED:20250115T094039Z
UID:554-1708698600-1708707600@deondernemerswinkel.nl
SUMMARY:Branding brilliance: masterclass zakelijke identiteit
DESCRIPTION:Branding brilliance: masterclass zakelijke identiteit.\n  \n\n\n\n\nOntdek de kracht van branding in onze masterclass. Leer hoe je een sterke zakelijke identiteit opbouwt en je merk positioneert. \nBetreed de wereld van zakelijk meesterschap met onze exclusieve masterclass over branding. Ontwikkel strategieën om jouw bedrijf te definiëren\, creëer een onderscheidende identiteit en laat een blijvende indruk achter in de markt. \nDeze masterclass neemt je mee door de kernprincipes van succesvolle branding. Leer hoe je een duidelijke bedrijfsidentiteit definieert\, jouw merk positioneert in de markt en een emotionele connectie opbouwt met je doelgroep. Ontdek geavanceerde strategieën voor merkconsistentie\, visuele identiteit en effectieve communicatie die jouw bedrijf onderscheiden. \nLeroy Niemel heeft een bewezen staat van dienst in de brandingindustrie\, hij deelt niet alleen theoretische kennis\, maar biedt ook praktische inzichten om de geleerde concepten in de praktijk te brengen. \nSchrijf je nu in voor “Branding Excellence” en positioneer jouw bedrijf als een krachtige speler op de markt. \n 
URL:https://deondernemerswinkel.nl/event/branding-brilliance-masterclass-zakelijke-identiteit/
ORGANIZER;CN="De Ondernemerswinkel":MAILTO:deondernemerswinkel@zoiszuidoost.nl
END:VEVENT
BEGIN:VEVENT
DTSTART;TZID=UTC:20240223T170000
DTEND;TZID=UTC:20240223T190000
DTSTAMP:20260424T112952
CREATED:20250115T094149Z
LAST-MODIFIED:20250115T094149Z
UID:557-1708707600-1708714800@deondernemerswinkel.nl
SUMMARY:Vaste einde maand borrel De Ondernemerswinkel
DESCRIPTION:Vaste einde maand borrel De Ondernemerswinkel\n  \n\n\n\n\nOnze vaste “eindemaand borrel”\, goed voor je netwerk en pak je kans om je plannen te pitchen aan je publiek! \nDe Ondernemerswinkel wordt gefaciliteerd door ZoisZuidoost en uitgevoerd door Matapica in samenwerking met lokale ondernemers. Het is een broedplaats van ideeën\, een kenniscentrum\, en een netwerkparadijs\, waarbij samen met lokale organisaties\, netwerkorganisaties\, partners en specialisten wordt gebouwd aan een infrastructuur voor het versterken van lokaal ondernemerschap. \nElke laatste vrijdag van de maand organiseren wij een gezellige borrel. Ontmoet gelijkgestemden\, wissel ideeën uit en bouw aan je netwerk. Deze borrel is dé plek om te connecten met mensen die jouw enthousiasme delen en wellicht zelfs willen bijdragen aan jouw succes. Het is niet alleen een avond om te genieten\, maar ook om te groeien! \n🎤 Pitchen met Passie!\nGeef jouw avond een unieke draai door je plan te pitchen aan een nieuwsgierig en ondersteunend publiek. Of je nu een zakelijk idee\, een creatief project\, of een persoonlijk avontuur wilt delen\, deze borrel biedt de perfecte gelegenheid om je passies te delen en waardevolle feedback te ontvangen. \nMet een beperkt aantal deelnemers zorgen we voor een exclusieve en intieme sfeer! \n 
URL:https://deondernemerswinkel.nl/event/vaste-einde-maand-borrel-de-ondernemerswinkel/
ORGANIZER;CN="De Ondernemerswinkel":MAILTO:deondernemerswinkel@zoiszuidoost.nl
END:VEVENT
END:VCALENDAR