BEGIN:VCALENDAR
VERSION:2.0
PRODID:-//De Ondernemerswinkel - ECPv6.9.0//NONSGML v1.0//EN
CALSCALE:GREGORIAN
METHOD:PUBLISH
X-ORIGINAL-URL:https://deondernemerswinkel.nl
X-WR-CALDESC:Evenementen voor De Ondernemerswinkel
REFRESH-INTERVAL;VALUE=DURATION:PT1H
X-Robots-Tag:noindex
X-PUBLISHED-TTL:PT1H
BEGIN:VTIMEZONE
TZID:UTC
BEGIN:STANDARD
TZOFFSETFROM:+0000
TZOFFSETTO:+0000
TZNAME:UTC
DTSTART:20240101T000000
END:STANDARD
END:VTIMEZONE
BEGIN:VEVENT
DTSTART;TZID=UTC:20240112T093000
DTEND;TZID=UTC:20240112T133000
DTSTAMP:20260424T132151
CREATED:20250115T093447Z
LAST-MODIFIED:20250115T093447Z
UID:541-1705051800-1705066200@deondernemerswinkel.nl
SUMMARY:Financieringen vanuit de Gemeente Amsterdam
DESCRIPTION:Financieringen vanuit de Gemeente Amsterdam\n  \n\n\n\n\nWil jij jouw onderneming naar nieuwe hoogten tillen\, maar ben je op zoek naar de juiste financiële boost? Dan is onze workshop jouw sleutel tot succes! \n🌟 Wat staat je te wachten: \n➤ Financiële Roadmap: Leer de geheime wegen kennen die leiden naar gemeentelijke financieringsmogelijkheden in Zuidoost. Ontdek de diverse leningen en andere kansen die voor jouw onderneming beschikbaar zijn. \n➤ Strategisch Advies: Krijg inzicht in welke financieringsvorm het beste past bij jouw bedrijfsmodel. Ontdek hoe je slimme strategieën kunt toepassen om maximaal voordeel te halen uit de beschikbare gemeentelijke ondersteuning. \n➤ Ondersteuningspunt Insights: Laat je inspireren door het Ondersteuningspunt Ondernemers en ontdek welke waardevolle bronnen en begeleiding zij bieden. Leer hoe je deze kunt benutten om jouw onderneming te laten bloeien. \n🚀 Waarom deelnemen: \nDeze workshop is jouw kans om deuren te openen naar financieringsmogelijkheden die je misschien nog niet kende. Laat geen geld liggen op tafel en ontdek hoe jouw onderneming kan floreren met de juiste steun vanuit de gemeente. \nSchrijf je snel in en maak van 2024 het jaar waarin jouw onderneming tot ongekende hoogten stijgt! 🚀✨ \n 
URL:https://deondernemerswinkel.nl/event/financieringen-vanuit-de-gemeente-amsterdam/
ORGANIZER;CN="De Ondernemerswinkel":MAILTO:deondernemerswinkel@zoiszuidoost.nl
END:VEVENT
BEGIN:VEVENT
DTSTART;TZID=UTC:20240126T100000
DTEND;TZID=UTC:20240126T133000
DTSTAMP:20260424T132151
CREATED:20250115T093603Z
LAST-MODIFIED:20250115T093603Z
UID:545-1706263200-1706275800@deondernemerswinkel.nl
SUMMARY:Financiële harmonie
DESCRIPTION:Financiële harmonie\n  \n\n\n\n\nMeesterlijk plannen voor zakelijk én privé succes. \nDompel jezelf onder in de wereld van financiële meesterschap met onze exclusieve Masterclass! In deze cursus ontrafelen we de geheimen van een gebalanceerd financieel leven\, waarbij zowel je persoonlijke als zakelijke situatie aan bod komt. Leer niet alleen de financiële kanten van jouw onderneming begrijpen\, maar richt je ook op je prive financien. \nSiomara de Getrouwe-Spalburg is een Certified Financial Planner. Zij zal inzichten met je delen over financiële planning en belastingoptimalisatie voor ondernemers\, maar bespreekt ook praktische tips voor het beheer van je persoonlijke financiën. \nOf je nu een doorgewinterde ondernemer bent die zijn financiën naar een hoger niveau wil tillen of een nieuwkomer die de kneepjes van het vak wil leren\, deze masterclass geeft inzicht en duidelijkheid aan een ieder. \nSchrijf je nu in en start 2024 goed\, door je financien op orde te brengen! \n 
URL:https://deondernemerswinkel.nl/event/financiele-harmonie/
ORGANIZER;CN="De Ondernemerswinkel":MAILTO:deondernemerswinkel@zoiszuidoost.nl
END:VEVENT
END:VCALENDAR