BEGIN:VCALENDAR
VERSION:2.0
PRODID:-//De Ondernemerswinkel - ECPv6.9.0//NONSGML v1.0//EN
CALSCALE:GREGORIAN
METHOD:PUBLISH
X-ORIGINAL-URL:https://deondernemerswinkel.nl
X-WR-CALDESC:Evenementen voor De Ondernemerswinkel
REFRESH-INTERVAL;VALUE=DURATION:PT1H
X-Robots-Tag:noindex
X-PUBLISHED-TTL:PT1H
BEGIN:VTIMEZONE
TZID:UTC
BEGIN:STANDARD
TZOFFSETFROM:+0000
TZOFFSETTO:+0000
TZNAME:UTC
DTSTART:20260101T000000
END:STANDARD
END:VTIMEZONE
BEGIN:VEVENT
DTSTART;TZID=UTC:20260309T180000
DTEND;TZID=UTC:20260309T200000
DTSTAMP:20260422T134329
CREATED:20260227T123801Z
LAST-MODIFIED:20260227T123801Z
UID:973-1773079200-1773086400@deondernemerswinkel.nl
SUMMARY:Workshop: Ondernemen op vrouwelijke kracht.
DESCRIPTION:Ontdek hoe je onderneemt op vrouwelijke kracht: werk met je cyclus voor meer energie\, focus en balans in je mentale en fysieke gezondheid. \nIn het verlengstuk van Vrouwendag is het tijd om de verdieping in te gaan. Wat als jouw maandelijkse cyclus geen obstakel is\, maar juist jouw geheime strategie voor succes? \nTijdens deze workshop laat trainer Natascha Spaans je zien hoe je onderneemt in lijn met je vrouwelijke kracht\, voor meer energie\, helderheid en duurzame resultaten. \nNatascha Spaans is orthomoleculair cyclus therapeut gespecialiseerd in hormonen. Ze heeft een achtergrond in hormonale gezondheid en de vruchtbaarheid van de vrouw\, orthomoleculaire voeding\, gedragsverandering & mentale weerbaarheid. \n“Ik geloof dat elke vrouw haar klachten drastisch kan verminderen als ze leert samenwerken met haar lichaam. Dat begint bij begrijpen wat je lichaam nodig heeft en probeert te vertellen met de signalen die ze elke maand geeft.”_Natascha Spaans \nOndernemen is topsport\, daarom is het belangrijk als ondernemer dat je goed voor je mentale en fysieke gezondheid zorgt. Doordat het vrouwelijke lichaam cyclisch is\, ziet zelfzorg er iedere week van de maand net een beetje anders uit. In deze workshop leer je hoe je lichaam beïnvloed wordt door de hormonen\, wat je lichaam op verschillende momenten nodig heeft én wat je kwaliteiten en valkuilen zijn in iedere fase van je cyclus\, zodat je deze slim kunt inzettten in het ondernemerschap. \nVerwacht een avond vol eyeopeners\, praktische inzichten\, verbinding met andere ondernemers én een hapje en drankje om het compleet te maken. \nStap in je kracht\, vergroot je impact en reserveer jouw plek!
URL:https://deondernemerswinkel.nl/event/workshop-ondernemen-op-vrouwelijke-kracht/
LOCATION:De Ondernemerswinkel\, Bijlmerplein 134\, Amsterdam\, NH\, 1102 DB\, Netherlands
ORGANIZER;CN="De Ondernemerswinkel":MAILTO:deondernemerswinkel@zoiszuidoost.nl
END:VEVENT
END:VCALENDAR