BEGIN:VCALENDAR
VERSION:2.0
PRODID:-//De Ondernemerswinkel - ECPv6.9.0//NONSGML v1.0//EN
CALSCALE:GREGORIAN
METHOD:PUBLISH
X-WR-CALNAME:De Ondernemerswinkel
X-ORIGINAL-URL:https://deondernemerswinkel.nl
X-WR-CALDESC:Evenementen voor De Ondernemerswinkel
REFRESH-INTERVAL;VALUE=DURATION:PT1H
X-Robots-Tag:noindex
X-PUBLISHED-TTL:PT1H
BEGIN:VTIMEZONE
TZID:UTC
BEGIN:STANDARD
TZOFFSETFROM:+0000
TZOFFSETTO:+0000
TZNAME:UTC
DTSTART:20260101T000000
END:STANDARD
END:VTIMEZONE
BEGIN:VEVENT
DTSTART;TZID=UTC:20260216T193000
DTEND;TZID=UTC:20260216T203000
DTSTAMP:20260422T164936
CREATED:20260201T191030Z
LAST-MODIFIED:20260201T191030Z
UID:838-1771270200-1771273800@deondernemerswinkel.nl
SUMMARY:Workshop: Arbeidsrecht ism Vivell
DESCRIPTION:Vivel Burger Academie i.s.m. De Ondernemerswinkel: Workshop Arbeidsrecht\n \nIn deze workshop worden de rechten van werknemers in loondienst of die in loondienst willen treden uiteengezet.\n\nTijdens de workshop komen onder andere de volgende onderwerpen aan bod:\n\n\n-Wat zijn mijn rechten bij een 0-uren contract?\n\n\n-Wat zijn mijn rechten als ik ziek ben?\n\n\n-Wanneer mag mijn werkgever mij ontslaan?\n\n\n-Wanneer mag mijn werkgever mij boventallig verklaren?\n\n\nVoor wie:\n\n\n\n-Voor iedereen in loondienst of die in loondienst wil gaan.\n-Voor kleine ondernemers (mkb’ers) met personeel of personeel in dienst willen nemen.\n\n-Voor bewoners\, vrijwilligers en geïnteresseerden.\n\n\n\n\nJe verwerft kennis over de rechten van werknemers in loondienst\nJe verwerft kennis over de rechten van werknemers als degene in loondienst wil treden.\n\nMKB’ers verwerven kennis over het in dienst nemen van personeel en de rechten waar zij rekening mee moeten houden.
URL:https://deondernemerswinkel.nl/event/workshop-arbeidsrecht-ism-vivell/
LOCATION:De Ondernemerswinkel\, Bijlmerplein 134\, Amsterdam\, NH\, 1102 DB\, Netherlands
ORGANIZER;CN="De Ondernemerswinkel":MAILTO:deondernemerswinkel@zoiszuidoost.nl
END:VEVENT
END:VCALENDAR