BEGIN:VCALENDAR
VERSION:2.0
PRODID:-//De Ondernemerswinkel - ECPv6.9.0//NONSGML v1.0//EN
CALSCALE:GREGORIAN
METHOD:PUBLISH
X-ORIGINAL-URL:https://deondernemerswinkel.nl
X-WR-CALDESC:Evenementen voor De Ondernemerswinkel
REFRESH-INTERVAL;VALUE=DURATION:PT1H
X-Robots-Tag:noindex
X-PUBLISHED-TTL:PT1H
BEGIN:VTIMEZONE
TZID:UTC
BEGIN:STANDARD
TZOFFSETFROM:+0000
TZOFFSETTO:+0000
TZNAME:UTC
DTSTART:20260101T000000
END:STANDARD
END:VTIMEZONE
BEGIN:VEVENT
DTSTART;TZID=UTC:20260213T110000
DTEND;TZID=UTC:20260213T140000
DTSTAMP:20260422T151611
CREATED:20260201T185711Z
LAST-MODIFIED:20260201T185711Z
UID:835-1770980400-1770991200@deondernemerswinkel.nl
SUMMARY:Workshop: De Lion Mindset!
DESCRIPTION:De Ondernemerswinkel workshop: Lion Mindset!\n \nOntdek hoe jij met de juiste mindset jouw dromen waarmaakt. Terence Koswal\, jouw persoonlijke gids naar succes\, staat klaar om jou te inspireren en te motiveren. \nAls Lion Mindset Coach en NLP practitioner begeleidt hij jou in het ontdekken van je volle potentieel. Met zijn expertise in mindset\, zelfvertrouwen en emotionele intelligentie\, helpt hij je bewust te worden van wat onbewust in je leeft. \nZijn kracht ligt in het begrijpen en versterken van menselijk gedrag\, zodat jij sterker\, bewuster en veerkrachtiger in het leven staat. \nOntwaak je innerlijke kracht\, die leeuw in jezelf en ontdek wat je écht in huis hebt. \nWat je krijgt:\n* Praktische oefeningen\n* Persoonlijke begeleiding\n* Een positieve boost voor het nieuwe jaar
URL:https://deondernemerswinkel.nl/event/workshop-de-lion-mindset/
LOCATION:De Ondernemerswinkel\, Bijlmerplein 134\, Amsterdam\, NH\, 1102 DB\, Netherlands
ORGANIZER;CN="De Ondernemerswinkel":MAILTO:deondernemerswinkel@zoiszuidoost.nl
END:VEVENT
END:VCALENDAR