BEGIN:VCALENDAR
VERSION:2.0
PRODID:-//De Ondernemerswinkel - ECPv6.9.0//NONSGML v1.0//EN
CALSCALE:GREGORIAN
METHOD:PUBLISH
X-WR-CALNAME:De Ondernemerswinkel
X-ORIGINAL-URL:https://deondernemerswinkel.nl
X-WR-CALDESC:Evenementen voor De Ondernemerswinkel
REFRESH-INTERVAL;VALUE=DURATION:PT1H
X-Robots-Tag:noindex
X-PUBLISHED-TTL:PT1H
BEGIN:VTIMEZONE
TZID:UTC
BEGIN:STANDARD
TZOFFSETFROM:+0000
TZOFFSETTO:+0000
TZNAME:UTC
DTSTART:20260101T000000
END:STANDARD
END:VTIMEZONE
BEGIN:VEVENT
DTSTART;TZID=UTC:20260209T060000
DTEND;TZID=UTC:20260209T210000
DTSTAMP:20260422T151441
CREATED:20260201T184448Z
LAST-MODIFIED:20260201T184448Z
UID:832-1770616800-1770670800@deondernemerswinkel.nl
SUMMARY:Masterclass online zichtbaarheid voor ondernemers deel 3
DESCRIPTION:Op 9 februari organiseren wij in De Ondernemerswinkel een mooie workshop over online zichtbaarheid.\nVoor ondernemers in Amsterdam Zuidoost organiseren het samenwerkingsverband tussen ZVVT\, De Ondernemerswinkel en het digitaliseringsoffensief een leuke reeks masterclasses die hands-on input geven voor ondernemers die van hun online aanwezigheid meer werk willen maken.\n\nGevorderde masterclass: Maken promotiemateriaal met gebruik van Canva en AI- tools DALL-E en/of Nano Banana\n\nMaken en afronden visuals (afbeeldingen en/of video’s) in Canva\, DALL-E en/of Nano Banana\nRecap van wat eerder is geleerd.\nBehandelen van vragen\nAfronden en bespreken vervolg.\n\nRandvoorwaarden deelname masterclass:\n\nDe ondernemer kan aan deze masterclass meedoen als die al eerder heeft geëxperimenteerd met Canva\, DALL-E en/of Nano Banana voor het maken van visuals.\nDe ondernemer weet te werken met een computer of laptop.\nLaptop en oplader meenemen.\nInloggegevens meenemen van social mediakanalen.\nInloggegevens Canva\, DALL-E en/of Nano Banana meenemen.
URL:https://deondernemerswinkel.nl/event/masterclass-online-zichtbaarheid-voor-ondernemers-deel-3/
LOCATION:De Ondernemerswinkel\, Bijlmerplein 134\, Amsterdam\, NH\, 1102 DB\, Netherlands
ORGANIZER;CN="De Ondernemerswinkel":MAILTO:deondernemerswinkel@zoiszuidoost.nl
END:VEVENT
END:VCALENDAR