BEGIN:VCALENDAR
VERSION:2.0
PRODID:-//De Ondernemerswinkel - ECPv6.9.0//NONSGML v1.0//EN
CALSCALE:GREGORIAN
METHOD:PUBLISH
X-WR-CALNAME:De Ondernemerswinkel
X-ORIGINAL-URL:https://deondernemerswinkel.nl
X-WR-CALDESC:Evenementen voor De Ondernemerswinkel
REFRESH-INTERVAL;VALUE=DURATION:PT1H
X-Robots-Tag:noindex
X-PUBLISHED-TTL:PT1H
BEGIN:VTIMEZONE
TZID:UTC
BEGIN:STANDARD
TZOFFSETFROM:+0000
TZOFFSETTO:+0000
TZNAME:UTC
DTSTART:20250101T000000
END:STANDARD
END:VTIMEZONE
BEGIN:VEVENT
DTSTART;TZID=UTC:20251124T180000
DTEND;TZID=UTC:20251124T210000
DTSTAMP:20260422T153138
CREATED:20251001T165944Z
LAST-MODIFIED:20251001T165944Z
UID:777-1764007200-1764018000@deondernemerswinkel.nl
SUMMARY:Eagle Vibez
DESCRIPTION:Een inspirerende en interactieve workshop\, georganiseerd in samenwerking met Eagle Vibez. \n\nDit unieke programma behandelt alle facetten van het ondernemerschap en biedt deelnemers de kans om hun vaardigheden te verdiepen en hun onderneming naar een hoger niveau te tillen.\n\nTijdens deze workshop word je niet alleen uitgedaagd\, maar ook gecoacht en begeleid. De workshop is ontzettend interactief.  Door middel van praktijkgerichte opdrachten\, strategische inzichten en persoonlijke feedback ontwikkel je een sterke ondernemers mindset en ontdek je nieuwe groeikansen.
URL:https://deondernemerswinkel.nl/event/eagle-vibez-2/
LOCATION:De Ondernemerswinkel\, Bijlmerplein 134\, Amsterdam\, NH\, 1102 DB\, Netherlands
ORGANIZER;CN="De Ondernemerswinkel":MAILTO:deondernemerswinkel@zoiszuidoost.nl
END:VEVENT
END:VCALENDAR