BEGIN:VCALENDAR
VERSION:2.0
PRODID:-//De Ondernemerswinkel - ECPv6.9.0//NONSGML v1.0//EN
CALSCALE:GREGORIAN
METHOD:PUBLISH
X-WR-CALNAME:De Ondernemerswinkel
X-ORIGINAL-URL:https://deondernemerswinkel.nl
X-WR-CALDESC:Evenementen voor De Ondernemerswinkel
REFRESH-INTERVAL;VALUE=DURATION:PT1H
X-Robots-Tag:noindex
X-PUBLISHED-TTL:PT1H
BEGIN:VTIMEZONE
TZID:UTC
BEGIN:STANDARD
TZOFFSETFROM:+0000
TZOFFSETTO:+0000
TZNAME:UTC
DTSTART:20250101T000000
END:STANDARD
END:VTIMEZONE
BEGIN:VEVENT
DTSTART;TZID=UTC:20251107T180000
DTEND;TZID=UTC:20251107T200000
DTSTAMP:20260422T153148
CREATED:20251102T210559Z
LAST-MODIFIED:20251102T210559Z
UID:791-1762538400-1762545600@deondernemerswinkel.nl
SUMMARY:De beginselen van beleggen
DESCRIPTION:In deze workshop leer je de basisprincipes van beleggen\, zodat je met vertrouwen aan de slag kan.\n\n\nWil jij starten met beleggen maar weet je nog niet hoe?\n\nIn deze workshop leer je de basisprincipes van beleggen\, zodat je met vertrouwen aan de slag kan.We behandelen o.a.:\n\n✅ Hoe bepaal je jouw risicoprofiel\n✅ Het verschil tussen sparen en beleggen\n✅ Assetmix & spreiding (aandelen\, obligaties\, ETF’s)\n✅ Rendement\, risico & inflatie\n✅ Praktische eerste stappen bij een broker. Speciaal voor jonge mensen die een stevig fundament willen leggen en slimme keuzes willen maken met hun geld.
URL:https://deondernemerswinkel.nl/event/de-beginselen-van-beleggen/
LOCATION:De Ondernemerswinkel\, Bijlmerplein 134\, Amsterdam\, NH\, 1102 DB\, Netherlands
ORGANIZER;CN="De Ondernemerswinkel":MAILTO:deondernemerswinkel@zoiszuidoost.nl
END:VEVENT
END:VCALENDAR