BEGIN:VCALENDAR
VERSION:2.0
PRODID:-//De Ondernemerswinkel - ECPv6.9.0//NONSGML v1.0//EN
CALSCALE:GREGORIAN
METHOD:PUBLISH
X-WR-CALNAME:De Ondernemerswinkel
X-ORIGINAL-URL:https://deondernemerswinkel.nl
X-WR-CALDESC:Evenementen voor De Ondernemerswinkel
REFRESH-INTERVAL;VALUE=DURATION:PT1H
X-Robots-Tag:noindex
X-PUBLISHED-TTL:PT1H
BEGIN:VTIMEZONE
TZID:UTC
BEGIN:STANDARD
TZOFFSETFROM:+0000
TZOFFSETTO:+0000
TZNAME:UTC
DTSTART:20250101T000000
END:STANDARD
END:VTIMEZONE
BEGIN:VEVENT
DTSTART;TZID=UTC:20251010T110000
DTEND;TZID=UTC:20251010T140000
DTSTAMP:20260422T140306
CREATED:20250930T120709Z
LAST-MODIFIED:20250930T120709Z
UID:766-1760094000-1760104800@deondernemerswinkel.nl
SUMMARY:Workshop marketing en inrichting die verkoopt!
DESCRIPTION:Hoe zorg je ervoor dat jouw winkel\, kantoor of stand meer klanten aantrekt én vasthoudt? \nEen goed product is niet genoeg – de manier waarop je jouw ruimte inricht en presenteert\, maakt het verschil. \nIn deze workshop leer je hoe je met slimme keuzes in marketing\, inrichting en klantbeleving jouw onderneming naar een hoger niveau tilt. Van looproutes en kassa-acties tot geur\, sfeer en beleving: elk detail bepaalt hoe jouw klant jouw merk ervaart. Denk bijvoorbeeld aan Rituals – een merk waar de winkelruimte volledig de merkidentiteit ademt. \nWe behandelen o.a.: \n\nHoe creëer je een inrichting die perfect aansluit bij jouw doelgroep?\nWelke rol spelen AI en nieuwe trends in marketing en inrichting?\nHoe gebruik je klantbeleving als groeimotor voor meer klandizie?\nHoe neem je dit mee in je bedrijfsplan en financieringsgesprekken met banken en vastgoedontwikkelaars?\nWat werkt het beste voor een winkel\, een kantoor\, maar ook voor een stand op een markt\, braderie\, bazaar of beurs?\n\nDeze workshop is geschikt voor gevestigde ondernemers die hun fysieke locatie willen optimaliseren\, startende ondernemers die hun eerste pand plannen\, én standhouders die hun kraam of beursplek aantrekkelijker willen maken. \nKom en ontdek hoe jouw ruimte – groot of klein – meer kan zijn dan een plek. Hoe jouw ruimte een beleving kan worden die verkoopt.
URL:https://deondernemerswinkel.nl/event/workshop-marketing-en-inrichting-die-verkoopt/
LOCATION:De Ondernemerswinkel\, Bijlmerplein 134\, Amsterdam\, NH\, 1102 DB\, Netherlands
ORGANIZER;CN="De Ondernemerswinkel":MAILTO:deondernemerswinkel@zoiszuidoost.nl
END:VEVENT
END:VCALENDAR