BEGIN:VCALENDAR
VERSION:2.0
PRODID:-//De Ondernemerswinkel - ECPv6.9.0//NONSGML v1.0//EN
CALSCALE:GREGORIAN
METHOD:PUBLISH
X-ORIGINAL-URL:https://deondernemerswinkel.nl
X-WR-CALDESC:Evenementen voor De Ondernemerswinkel
REFRESH-INTERVAL;VALUE=DURATION:PT1H
X-Robots-Tag:noindex
X-PUBLISHED-TTL:PT1H
BEGIN:VTIMEZONE
TZID:UTC
BEGIN:STANDARD
TZOFFSETFROM:+0000
TZOFFSETTO:+0000
TZNAME:UTC
DTSTART:20250101T000000
END:STANDARD
END:VTIMEZONE
BEGIN:VEVENT
DTSTART;TZID=UTC:20250919T110000
DTEND;TZID=UTC:20250919T140000
DTSTAMP:20260422T120622
CREATED:20250906T193535Z
LAST-MODIFIED:20250906T193535Z
UID:761-1758279600-1758290400@deondernemerswinkel.nl
SUMMARY:Workshop voor ondernemers: rechtsvormen\, vermogen en arbeidsrecht.
DESCRIPTION:Krijg helder inzicht in rechtsvormen\, privé/zakelijk vermogen en arbeidsrecht. Onmisbaar voor elke ondernemer. \nOndernemen brengt veel keuzes met zich mee – ook op juridisch vlak. Of je nu net begint of al een tijdje bezig bent\, het is waardevol om stil te staan bij de juridische structuur van je bedrijf en de verantwoordelijkheden die daarbij horen. \nIn deze workshop bespreken we een aantal onderwerpen die regelmatig terugkomen in de praktijk van ondernemers\, zoals rechtsvormen\, het onderscheid tussen privé en zakelijk vermogen\, en enkele aspecten van het arbeidsrecht. \nHet doel is niet om van jou een jurist te maken\, maar om je bewuster te maken van juridische thema’s die relevant kunnen zijn in jouw ondernemerschap. Je krijgt praktische informatie en er is ruimte om vragen te stellen of ervaringen te delen.
URL:https://deondernemerswinkel.nl/event/workshop-voor-ondernemers-rechtsvormen-vermogen-en-arbeidsrecht/
LOCATION:De Ondernemerswinkel\, Bijlmerplein 134\, Amsterdam\, NH\, 1102 DB\, Netherlands
ORGANIZER;CN="De Ondernemerswinkel":MAILTO:deondernemerswinkel@zoiszuidoost.nl
END:VEVENT
END:VCALENDAR