BEGIN:VCALENDAR
VERSION:2.0
PRODID:-//De Ondernemerswinkel - ECPv6.9.0//NONSGML v1.0//EN
CALSCALE:GREGORIAN
METHOD:PUBLISH
X-ORIGINAL-URL:https://deondernemerswinkel.nl
X-WR-CALDESC:Evenementen voor De Ondernemerswinkel
REFRESH-INTERVAL;VALUE=DURATION:PT1H
X-Robots-Tag:noindex
X-PUBLISHED-TTL:PT1H
BEGIN:VTIMEZONE
TZID:UTC
BEGIN:STANDARD
TZOFFSETFROM:+0000
TZOFFSETTO:+0000
TZNAME:UTC
DTSTART:20250101T000000
END:STANDARD
END:VTIMEZONE
BEGIN:VEVENT
DTSTART;TZID=UTC:20250711T110000
DTEND;TZID=UTC:20250711T140000
DTSTAMP:20260420T103505
CREATED:20250602T173131Z
LAST-MODIFIED:20250602T173131Z
UID:753-1752231600-1752242400@deondernemerswinkel.nl
SUMMARY:Boekhouding\, inzicht & controle voor ondernemers.
DESCRIPTION:Leer in deze workshop hoe je als ondernemer je boekhouding slim en overzichtelijk regelt – voor meer inzicht\, rust en grip op je financiën. \nBoekhouden is misschien niet het leukste onderdeel van ondernemen\, maar wel essentieel. Goed inzicht in je cijfers geeft rust\, voorkomt verrassingen en helpt je om betere keuzes te maken. In deze workshop leer je op een begrijpelijke en praktische manier hoe je jouw administratie slim en efficiënt organiseert. Je ontdekt hoe je overzicht houdt in je inkomsten en uitgaven\, hoe btw en aftrekposten werken\, en hoe je eenvoudig voldoet aan fiscale verplichtingen. We laten zien hoe je boekhoudsoftware handig inzet\, welke fouten je beter kunt vermijden en wat je zelf kunt doen zonder direct een boekhouder in te schakelen. \nOf je nu net gestart bent of al langer onderneemt: deze workshop geeft je meer grip op je financiën en vertrouwen in je cijfers. Geen droge theorie\, maar helder\, toepasbaar en afgestemd op de praktijk van ondernemers zoals jij. \nDeze workshop is voor \n\nStartende ondernemers die hun administratie goed willen opzetten\nZelfstandigen en zzp’ers die meer grip willen op hun cijfers\nGroeiende bedrijven die hun boekhouding willen professionaliseren\n\nMeld je snel aan!
URL:https://deondernemerswinkel.nl/event/boekhouding-inzicht-controle-voor-ondernemers/
LOCATION:De Ondernemerswinkel\, Bijlmerplein 134\, Amsterdam\, NH\, 1102 DB\, Netherlands
ORGANIZER;CN="De Ondernemerswinkel":MAILTO:deondernemerswinkel@zoiszuidoost.nl
END:VEVENT
END:VCALENDAR