BEGIN:VCALENDAR
VERSION:2.0
PRODID:-//De Ondernemerswinkel - ECPv6.9.0//NONSGML v1.0//EN
CALSCALE:GREGORIAN
METHOD:PUBLISH
X-WR-CALNAME:De Ondernemerswinkel
X-ORIGINAL-URL:https://deondernemerswinkel.nl
X-WR-CALDESC:Evenementen voor De Ondernemerswinkel
REFRESH-INTERVAL;VALUE=DURATION:PT1H
X-Robots-Tag:noindex
X-PUBLISHED-TTL:PT1H
BEGIN:VTIMEZONE
TZID:UTC
BEGIN:STANDARD
TZOFFSETFROM:+0000
TZOFFSETTO:+0000
TZNAME:UTC
DTSTART:20240101T000000
END:STANDARD
END:VTIMEZONE
BEGIN:VEVENT
DTSTART;TZID=UTC:20240510T110000
DTEND;TZID=UTC:20240510T140000
DTSTAMP:20260422T085910
CREATED:20250115T095354Z
LAST-MODIFIED:20250115T095354Z
UID:587-1715338800-1715349600@deondernemerswinkel.nl
SUMMARY:Workshop: Branding & LinkedIn
DESCRIPTION:Workshop: Branding & LinkedIn\n  \n\n\n\n\nVerdiep je in branding & LinkedIn optimalisatie tijdens onze workshop. Leer essentiële strategieën voor professioneel succes. \nStreef naar professionele excellentie met onze workshop over LinkedIn en CV optimalisatie. \nIn een tijdperk waarin digitale aanwezigheid cruciaal is\, is het bouwen van een overtuigend online merk essentieel voor succes. Tijdens onze workshop dompelen we je onder in de wereld van effectieve personal branding en netwerken. Ontdek geavanceerde strategieën voor het optimaliseren van je LinkedIn-profiel. Van het scherpstellen van je boodschap tot het benutten van de kracht van sociale media. \nNiet alleen zal onze begeleiding en praktische oefeningen je helpen om je professionele doelen te bereiken\, maar je zult ook met hernieuwd vertrouwen en inspiratie vooruitgaan in de competitieve wereld van vandaag. \nBereid je voor om je carrière te transformeren en je potentieel volledig te benutten. Laat ons je begeleiden op je reis naar succes! \n 
URL:https://deondernemerswinkel.nl/event/workshop-branding-linkedin/
ORGANIZER;CN="De Ondernemerswinkel":MAILTO:deondernemerswinkel@zoiszuidoost.nl
END:VEVENT
END:VCALENDAR