BEGIN:VCALENDAR
VERSION:2.0
PRODID:-//De Ondernemerswinkel - ECPv6.9.0//NONSGML v1.0//EN
CALSCALE:GREGORIAN
METHOD:PUBLISH
X-ORIGINAL-URL:https://deondernemerswinkel.nl
X-WR-CALDESC:Evenementen voor De Ondernemerswinkel
REFRESH-INTERVAL;VALUE=DURATION:PT1H
X-Robots-Tag:noindex
X-PUBLISHED-TTL:PT1H
BEGIN:VTIMEZONE
TZID:UTC
BEGIN:STANDARD
TZOFFSETFROM:+0000
TZOFFSETTO:+0000
TZNAME:UTC
DTSTART:20240101T000000
END:STANDARD
END:VTIMEZONE
BEGIN:VEVENT
DTSTART;TZID=UTC:20240419T110000
DTEND;TZID=UTC:20240419T140000
DTSTAMP:20260422T120327
CREATED:20250115T095011Z
LAST-MODIFIED:20250115T095011Z
UID:578-1713524400-1713535200@deondernemerswinkel.nl
SUMMARY:Workshop: Ontdek de kracht van effectieve marketing.
DESCRIPTION:Workshop: Ontdek de kracht van effectieve marketing.\n  \n\n\n\n\nWil je jouw bedrijf laten groeien en meer klanten aantrekken? Doe dan mee aan onze workshop over marketing! \nTijdens deze workshop leer je: \nDe fundamenten van succesvolle marketing begrijpen. \nHoe je jouw doelgroep effectief kunt bereiken en betrekken. \nStrategieën voor het creëren van pakkende content die de aandacht trekt. \nHet belang van branding en hoe je een sterke merkidentiteit opbouwt. \nOf je nu een start-up bent die haar eerste klanten wil aantrekken of een gevestigd bedrijf dat zijn marktaandeel wil vergroten\, deze workshop is voor jou! \nSchrijf je vandaag nog in en ontdek hoe je marketing kunt gebruiken als een krachtig hulpmiddel om jouw bedrijf te laten groeien en te bloeien! \n  \n \n 
URL:https://deondernemerswinkel.nl/event/workshop-ontdek-de-kracht-van-effectieve-marketing/
ORGANIZER;CN="De Ondernemerswinkel":MAILTO:deondernemerswinkel@zoiszuidoost.nl
END:VEVENT
END:VCALENDAR