BEGIN:VCALENDAR
VERSION:2.0
PRODID:-//De Ondernemerswinkel - ECPv6.9.0//NONSGML v1.0//EN
CALSCALE:GREGORIAN
METHOD:PUBLISH
X-ORIGINAL-URL:https://deondernemerswinkel.nl
X-WR-CALDESC:Evenementen voor De Ondernemerswinkel
REFRESH-INTERVAL;VALUE=DURATION:PT1H
X-Robots-Tag:noindex
X-PUBLISHED-TTL:PT1H
BEGIN:VTIMEZONE
TZID:UTC
BEGIN:STANDARD
TZOFFSETFROM:+0000
TZOFFSETTO:+0000
TZNAME:UTC
DTSTART:20240101T000000
END:STANDARD
END:VTIMEZONE
BEGIN:VEVENT
DTSTART;TZID=UTC:20240412T110000
DTEND;TZID=UTC:20240412T140000
DTSTAMP:20260422T134311
CREATED:20250115T094856Z
LAST-MODIFIED:20250115T094856Z
UID:575-1712919600-1712930400@deondernemerswinkel.nl
SUMMARY:Workshop: Leiderschap in actie
DESCRIPTION:Workshop: Leiderschap in actie\n  \n\n\n\n\nBen je klaar om je leiderschapsvaardigheden naar een hoger niveau te tillen? Doe dan mee aan onze inspirerende workshop over leiderschap. \nWorkshop over leiderschap! Leer hoe je een effectieve leider wordt die anderen motiveert\, inspireert en leidt naar succes. \nTijdens deze interactieve workshop leer je: \nDe essentiële eigenschappen van effectief leiderschap \nHoe je een positieve en inclusieve werkcultuur kunt creëren \nStrategieën voor het stimuleren van teambetrokkenheid en prestaties \nPraktische tools om uitdagingen aan te pakken en resultaten te behalen \nOf je nu een beginnende manager bent die zijn leiderschapsvaardigheden wil versterken of een ervaren leider die nieuwe inzichten wil opdoen\, deze workshop is voor jou! \nSchrijf je vandaag nog in en neem de eerste stap op weg naar het ontwikkelen van jouw leiderschapspotentieel! \n 
URL:https://deondernemerswinkel.nl/event/workshop-leiderschap-in-actie/
ORGANIZER;CN="De Ondernemerswinkel":MAILTO:deondernemerswinkel@zoiszuidoost.nl
END:VEVENT
END:VCALENDAR