BEGIN:VCALENDAR
VERSION:2.0
PRODID:-//De Ondernemerswinkel - ECPv6.9.0//NONSGML v1.0//EN
CALSCALE:GREGORIAN
METHOD:PUBLISH
X-WR-CALNAME:De Ondernemerswinkel
X-ORIGINAL-URL:https://deondernemerswinkel.nl
X-WR-CALDESC:Evenementen voor De Ondernemerswinkel
REFRESH-INTERVAL;VALUE=DURATION:PT1H
X-Robots-Tag:noindex
X-PUBLISHED-TTL:PT1H
BEGIN:VTIMEZONE
TZID:UTC
BEGIN:STANDARD
TZOFFSETFROM:+0000
TZOFFSETTO:+0000
TZNAME:UTC
DTSTART:20240101T000000
END:STANDARD
END:VTIMEZONE
BEGIN:VEVENT
DTSTART;TZID=UTC:20240329T143000
DTEND;TZID=UTC:20240329T170000
DTSTAMP:20260422T134301
CREATED:20250115T094636Z
LAST-MODIFIED:20250115T094636Z
UID:569-1711722600-1711731600@deondernemerswinkel.nl
SUMMARY:Financial Planning – pensioenplanning voor ondernemers
DESCRIPTION:Financial Planning – pensioenplanning voor ondernemers\n  \n\n\n\n\nOntdek praktische pensioenplanningstips tijdens onze workshop\, zelfs voor drukke ondernemers met volle agenda’s! \nLet op! Dit is een workshop voor ondernemers die minimaal 2 jaar fullitime succesvol ondernemen en qua inkomen grotendeels afhankelijk zijn van het inkomen gegenereerd uit hun onderneming! \nIn de workshop “Financial Planning: Pensioenplanning voor Ondernemers” begrijpen we de zorgen die veel ondernemers hebben als het gaat om het regelen van hun pensioen. We weten dat het runnen van een bedrijf veel tijd en energie vergt\, waardoor pensioenplanning soms op de achtergrond raakt. Daarnaast realiseren we ons dat niet alle ondernemers over voldoende kennis beschikken om effectief te plannen voor hun financiële toekomst. \nDaarom is deze workshop ontworpen om ondernemers te helpen\, zelfs in drukke tijden\, om grip te krijgen op hun pensioenplanning. We bieden praktische tips en strategieën die je kunt implementeren zonder dat het veel extra tijd vergt. Bovendien leggen we complexe financiële concepten op een begrijpelijke manier uit\, zodat je met vertrouwen beslissingen kunt nemen over jouw pensioen. \nOnze missie is om pensioenplanning toegankelijk en haalbaar te maken voor alle ondernemers\, ongeacht hun drukke schema’s. Met deze workshop staan we klaar om je te begeleiden naar een financieel veilige toekomst. \nDe workshop wordt gegeven door Harry van Houdt – Harry van Houdt – Nederlandsche Planners Associatie en Siomara de Getrouwe- Spalburg \nHarry van Houdt MFP CFP® RLP is een gepassioneerde financial planner met een missie om mensen te helpen hun financiële doelen te bereiken. Met jarenlange ervaring en expertise in financiële planning\, biedt hij deskundig advies en begeleiding op maat. Harry gelooft in een persoonlijke benadering en streeft ernaar om zijn klanten te empoweren en hen de tools te geven die ze nodig hebben om financiële zekerheid te bereiken. \nSiomara de Getrouwe-Spalburg CFP® is een visionaire ondernemer met een sterke financiële achtergrond. Zij zet haar kennis en expertise in om sociale verandering te stimuleren en inclusiviteit te bevorderen. Met een solide begrip van financiële principes en strategieën\, combineert Siomara haar passie voor impact met een doelgerichte aanpak om duurzame ontwikkeling te realiseren. Als een inspirerende kracht achter diverse initiatieven op het gebied van financiën en maatschappelijk welzijn\, blijft Siomara zich inzetten voor het creëren van een positieve impact en het stimuleren van groei en welvaart. \n 
URL:https://deondernemerswinkel.nl/event/financial-planning-pensioenplanning-voor-ondernemers/
ORGANIZER;CN="De Ondernemerswinkel":MAILTO:deondernemerswinkel@zoiszuidoost.nl
END:VEVENT
BEGIN:VEVENT
DTSTART;TZID=UTC:20240329T170000
DTEND;TZID=UTC:20240329T190000
DTSTAMP:20260422T134301
CREATED:20250115T094747Z
LAST-MODIFIED:20250115T094747Z
UID:572-1711731600-1711738800@deondernemerswinkel.nl
SUMMARY:Vaste einde maand borrel De Ondernemerswinkel
DESCRIPTION:Vaste einde maand borrel De Ondernemerswinkel\n  \n\n\n\n\nOnze vaste “eindemaand borrel”\, goed voor je netwerk en pak je kans om je plannen te pitchen aan je publiek! \nDe Ondernemerswinkel wordt gefaciliteerd door ZoisZuidoost en uitgevoerd door Matapica in samenwerking met lokale ondernemers. Het is een broedplaats van ideeën\, een kenniscentrum\, en een netwerkparadijs\, waarbij samen met lokale organisaties\, netwerkorganisaties\, partners en specialisten wordt gebouwd aan een infrastructuur voor het versterken van lokaal ondernemerschap. \nElke laatste vrijdag van de maand organiseren wij een gezellige borrel. Ontmoet gelijkgestemden\, wissel ideeën uit en bouw aan je netwerk. Deze borrel is dé plek om te connecten met mensen die jouw enthousiasme delen en wellicht zelfs willen bijdragen aan jouw succes. Het is niet alleen een avond om te genieten\, maar ook om te groeien! \n🎤 Pitchen met Passie!\nGeef jouw avond een unieke draai door je plan te pitchen aan een nieuwsgierig en ondersteunend publiek. Of je nu een zakelijk idee\, een creatief project\, of een persoonlijk avontuur wilt delen\, deze borrel biedt de perfecte gelegenheid om je passies te delen en waardevolle feedback te ontvangen. \nMet een beperkt aantal deelnemers zorgen we voor een exclusieve en intieme sfeer! \nLET OP! DEZE BORREL VINDT PLAATS OP DE LOCATIE VAN THE EXTRA MILE! \n 
URL:https://deondernemerswinkel.nl/event/vaste-einde-maand-borrel-de-ondernemerswinkel-2/
ORGANIZER;CN="De Ondernemerswinkel":MAILTO:deondernemerswinkel@zoiszuidoost.nl
END:VEVENT
END:VCALENDAR