BEGIN:VCALENDAR
VERSION:2.0
PRODID:-//De Ondernemerswinkel - ECPv6.9.0//NONSGML v1.0//EN
CALSCALE:GREGORIAN
METHOD:PUBLISH
X-ORIGINAL-URL:https://deondernemerswinkel.nl
X-WR-CALDESC:Evenementen voor De Ondernemerswinkel
REFRESH-INTERVAL;VALUE=DURATION:PT1H
X-Robots-Tag:noindex
X-PUBLISHED-TTL:PT1H
BEGIN:VTIMEZONE
TZID:UTC
BEGIN:STANDARD
TZOFFSETFROM:+0000
TZOFFSETTO:+0000
TZNAME:UTC
DTSTART:20240101T000000
END:STANDARD
END:VTIMEZONE
BEGIN:VEVENT
DTSTART;TZID=UTC:20240322T120000
DTEND;TZID=UTC:20240322T140000
DTSTAMP:20260424T110150
CREATED:20250115T094525Z
LAST-MODIFIED:20250115T094525Z
UID:566-1711108800-1711116000@deondernemerswinkel.nl
SUMMARY:Workshop: ontwerp je succes met de Business Model Canvas
DESCRIPTION:Workshop: ontwerp je succes met de Business Model Canvas\n  \n\n\n\n\nOntwerp je succes met het Business Model Canvas! Leer de essentie in onze workshop voor groei en concurrentievoordeel. Doe mee! \nWil je jouw bedrijf naar nieuwe hoogten tillen? Doe dan mee aan onze workshop over het Business Model Canvas! Ontdek hoe je een krachtig businessmodel ontwerpt dat de basis legt voor succes en groei. \nIn deze interactieve sessie leer je: \n  \nDe belangrijkste elementen van het Business Model Canvas begrijpen \nHoe je jouw huidige bedrijfsmodel analyseert en verbetert \nStrategieën om nieuwe kansen te identificeren en te benutten \nHoe je jouw bedrijf wendbaar en concurrerend houdt in een snel veranderende markt \n  \nOf je nu een start-up bent die een sterke basis wil leggen of een gevestigde onderneming die nieuwe groeimogelijkheden wil verkennen\, deze workshop is voor jou! \nSchrijf je vandaag nog in en zet de eerste stap naar een succesvolle toekomst voor jouw bedrijf! \nDeze workshop wordt gegeven door Ruben Nieuwenhuis (Techgrounds Omscholing naar IT (techgrounds.nl)) en Des Balentien! (Yougottabelieve Impact ondernemersprogramma – YouGottaBelieve) \n 
URL:https://deondernemerswinkel.nl/event/workshop-ontwerp-je-succes-met-de-business-model-canvas/
ORGANIZER;CN="De Ondernemerswinkel":MAILTO:deondernemerswinkel@zoiszuidoost.nl
END:VEVENT
END:VCALENDAR