BEGIN:VCALENDAR
VERSION:2.0
PRODID:-//De Ondernemerswinkel - ECPv6.9.0//NONSGML v1.0//EN
CALSCALE:GREGORIAN
METHOD:PUBLISH
X-ORIGINAL-URL:https://deondernemerswinkel.nl
X-WR-CALDESC:Evenementen voor De Ondernemerswinkel
REFRESH-INTERVAL;VALUE=DURATION:PT1H
X-Robots-Tag:noindex
X-PUBLISHED-TTL:PT1H
BEGIN:VTIMEZONE
TZID:UTC
BEGIN:STANDARD
TZOFFSETFROM:+0000
TZOFFSETTO:+0000
TZNAME:UTC
DTSTART:20240101T000000
END:STANDARD
END:VTIMEZONE
BEGIN:VEVENT
DTSTART;TZID=UTC:20240314T180000
DTEND;TZID=UTC:20240314T200000
DTSTAMP:20260422T134333
CREATED:20250115T094420Z
LAST-MODIFIED:20250115T094420Z
UID:563-1710439200-1710446400@deondernemerswinkel.nl
SUMMARY:Masterclass belastingen voor starters : omzetbelasting + inkomstenbelasting
DESCRIPTION:Masterclass belastingen voor starters : omzetbelasting + inkomstenbelasting\n  \n\n\n\n\nLet op! Dit is een samenwerking met De Kazerne! De locatie van deze masterclass is : Remmerdenplein 100! \nAls startende ondernemer\, vooral als ZZP’er\, kan de wereld van belastingen een doolhof lijken waarin je verdwaald raakt. Maar maak je geen zorgen – wij zijn hier om je te helpen! \nWaarom zou je deze masterclass bijwonen? \nVerhoog je winst: Door de complexe wereld van belastingen te begrijpen\, kun je kansen ontdekken om je winst te maximaliseren. Wij zullen je tonen hoe je legaal kunt besparen en groeien. \nVoorkom fiscale Fouten: Fouten in belastingaangiften kunnen leiden tot boetes en juridische problemen. Met onze begeleiding leer je hoe je deze risico’s kunt minimaliseren en onaangename verrassingen kunt voorkomen. \nBouw zekerheid op: Door te begrijpen hoe omzetbelasting en inkomstenbelasting werken\, krijg je meer financiële zekerheid voor je onderneming. Dit stelt je in staat om met vertrouwen te plannen en te groeien. \nNetwerk met mede-ondernemers: Deze masterclass biedt niet alleen waardevolle kennis\, maar ook de kans om te netwerken met andere startende ondernemers. Samenwerking en het delen van ervaringen kunnen van onschatbare waarde zijn. \nSchrijf je nu in voor de Masterclass over omzetbelasting en inkomstenbelasting en zet de eerste stap naar fiscaal begrip en succes! \n 
URL:https://deondernemerswinkel.nl/event/masterclass-belastingen-voor-starters-omzetbelasting-inkomstenbelasting/
ORGANIZER;CN="De Ondernemerswinkel":MAILTO:deondernemerswinkel@zoiszuidoost.nl
END:VEVENT
END:VCALENDAR