BEGIN:VCALENDAR
VERSION:2.0
PRODID:-//De Ondernemerswinkel - ECPv6.9.0//NONSGML v1.0//EN
CALSCALE:GREGORIAN
METHOD:PUBLISH
X-WR-CALNAME:De Ondernemerswinkel
X-ORIGINAL-URL:https://deondernemerswinkel.nl
X-WR-CALDESC:Evenementen voor De Ondernemerswinkel
REFRESH-INTERVAL;VALUE=DURATION:PT1H
X-Robots-Tag:noindex
X-PUBLISHED-TTL:PT1H
BEGIN:VTIMEZONE
TZID:UTC
BEGIN:STANDARD
TZOFFSETFROM:+0000
TZOFFSETTO:+0000
TZNAME:UTC
DTSTART:20240101T000000
END:STANDARD
END:VTIMEZONE
BEGIN:VEVENT
DTSTART;TZID=UTC:20240308T100000
DTEND;TZID=UTC:20240308T200000
DTSTAMP:20260422T134259
CREATED:20250115T094312Z
LAST-MODIFIED:20250115T094312Z
UID:560-1709892000-1709928000@deondernemerswinkel.nl
SUMMARY:8 Maart – Internationale Vrouwendag
DESCRIPTION:8 Maart – Internationale Vrouwendag\n  \n\n\n\n\nBen jij klaar om Internationale Vrouwendag op 8 maart te vieren met een boost voor zowel lichaam\, geest als business? \nSluit je aan bij onze Body\, Mind & Business dag en geef je ondernemersgeest de kracht en energie die het verdient. We hebben een ochtendprogramma en een avondprogramma. Gezien de capaciteit dien\, jij je voor beide programma’s apart aan te melden. \nWORKOUT (10:00 uur – 11:00 uur) met aansluitend een heerlijke en gezonde smoothie. \nStart de dag met pit en doe mee aan een bruisende workout bij OWN Ladies Gym. Laat de energie stromen en ontspan daarna met smaakvolle\, gezonde smoothies en bites. Het is tijd om jezelf op te laden! \nBUSINESS TALKS\, PHOTOSHOOT & BORREL (17:00 uur – 20:00 uur) Inspiratie nodig? \nWe got you! \nWij hebben een line up van prachtige sprekers die jullie vertellen over de kracht van de community\, hoe jij als ondernemer ondanks tegenslagen altijd moet volharden en hun ondernemersverhalen met jou delen! \nDoe mee aan een business speeddating sessie om jouw netwerk uit te breiden. Plus\, een power fotoshoot – kom stralend voor de dag in jouw business outfit! \nWe sluiten de avond af met een gezellige borrel! Na de inspiratie en energie van de dag\, kun je heerlijk ontspannen\, bijkletsen met mede-ondernemers en genieten van een hapje en een drankje. \nLocatie ochtendprogramma: OWN ladies gym – Paasheuvelweg 8\, 1106 HZ Amsterdam. \nLocatie avondprogramma : Johan Cruijff Blvd 83-95\, 1101 DM Amsterdam. \nDit is jouw moment\, vrouwelijke ondernemers van Amsterdam Zuidoost\, om te stralen\, te groeien en te connecten. Mis het niet! \nDoor het beperkte aantal plekken is het belangrijk om voor elk programma afzonderlijk aan te melden! \n 
URL:https://deondernemerswinkel.nl/event/8-maart-internationale-vrouwendag/
ORGANIZER;CN="De Ondernemerswinkel":MAILTO:deondernemerswinkel@zoiszuidoost.nl
END:VEVENT
END:VCALENDAR