BEGIN:VCALENDAR
VERSION:2.0
PRODID:-//De Ondernemerswinkel - ECPv6.9.0//NONSGML v1.0//EN
CALSCALE:GREGORIAN
METHOD:PUBLISH
X-ORIGINAL-URL:https://deondernemerswinkel.nl
X-WR-CALDESC:Evenementen voor De Ondernemerswinkel
REFRESH-INTERVAL;VALUE=DURATION:PT1H
X-Robots-Tag:noindex
X-PUBLISHED-TTL:PT1H
BEGIN:VTIMEZONE
TZID:UTC
BEGIN:STANDARD
TZOFFSETFROM:+0000
TZOFFSETTO:+0000
TZNAME:UTC
DTSTART:20230101T000000
END:STANDARD
END:VTIMEZONE
BEGIN:VEVENT
DTSTART;TZID=UTC:20231215T170000
DTEND;TZID=UTC:20231215T190000
DTSTAMP:20260424T161155
CREATED:20250115T093333Z
LAST-MODIFIED:20250115T093333Z
UID:538-1702659600-1702666800@deondernemerswinkel.nl
SUMMARY:Feestelijke viering De Ondernemerswinkel
DESCRIPTION:Feestelijke viering De Ondernemerswinkel\n  \n\n\n\n\n📆 Datum: Vrijdag 15 december\n🕒 Tijd: 17:00 – 19:00\n📍 Plaats: De Ondernemerswinkel – Bijlmerplein 875 \nDe Ondernemerswinkel wordt gefaciliteerd door ZoisZuidoost en uitgevoerd door Matapica in samenwerking met lokale ondernemers. Het is een broedplaats van ideeën\, een kenniscentrum\, en een netwerkparadijs\, waarbij samen met lokale organisaties\, netwerkorganisaties\, partners en specialisten wordt gebouwd aan een infrastructuur voor het versterken van lokaal ondernemerschap. \nDe afgelopen weken heeft De Ondernemerswinkel een aantal succesvolle evenementen en workshops georganiseerd\, die stuk voor stuk gericht waren op het versterken van de ondernemersvaardigheden en het uitbreiden van het netwerk van de deelnemers. De toekomst ziet er veelbelovend uit\, met plannen voor meer op maat gemaakte workshops\, masterclasses en informele bijeenkomsten die ondernemers verder helpen in hun zakelijke reis. \nOp 15 december is er een feestelijke opening met partners en stakeholders. Wij nodigen je van harte uit om de succesvolle samenwerking met elkaar te vieren. Kom netwerken en deel je verhaal in een open en ondersteunende omgeving. \nKom je gezellig langs? \n  \n\nhttps://deondernemerswinkel.nl/wp-content/uploads/2025/01/feestelijke-viering-1.mp4
URL:https://deondernemerswinkel.nl/event/feestelijke-viering-de-ondernemerswinkel/
ORGANIZER;CN="De Ondernemerswinkel":MAILTO:deondernemerswinkel@zoiszuidoost.nl
END:VEVENT
END:VCALENDAR