BEGIN:VCALENDAR
VERSION:2.0
PRODID:-//De Ondernemerswinkel - ECPv6.9.0//NONSGML v1.0//EN
CALSCALE:GREGORIAN
METHOD:PUBLISH
X-WR-CALNAME:De Ondernemerswinkel
X-ORIGINAL-URL:https://deondernemerswinkel.nl
X-WR-CALDESC:Evenementen voor De Ondernemerswinkel
REFRESH-INTERVAL;VALUE=DURATION:PT1H
X-Robots-Tag:noindex
X-PUBLISHED-TTL:PT1H
BEGIN:VTIMEZONE
TZID:UTC
BEGIN:STANDARD
TZOFFSETFROM:+0000
TZOFFSETTO:+0000
TZNAME:UTC
DTSTART:20230101T000000
END:STANDARD
END:VTIMEZONE
BEGIN:VEVENT
DTSTART;TZID=UTC:20231201T103000
DTEND;TZID=UTC:20231201T120000
DTSTAMP:20260424T161140
CREATED:20250115T092714Z
LAST-MODIFIED:20250115T092714Z
UID:526-1701426600-1701432000@deondernemerswinkel.nl
SUMMARY:Masterclass Omzetbelasting en Inkomstenbelasting
DESCRIPTION:Masterclass Omzetbelasting en Inkomstenbelasting\n  \n\n\n\n\nAls startende ondernemer\, vooral als ZZP’er\, kan de wereld van belastingen een doolhof lijken waarin je verdwaald raakt. Maar maak je geen zorgen – wij zijn hier om je te helpen! \nWaarom zou je deze masterclass bijwonen? \nVerhoog je winst: Door de complexe wereld van belastingen te begrijpen\, kun je kansen ontdekken om je winst te maximaliseren. Wij zullen je tonen hoe je legaal kunt besparen en groeien. \nVoorkom fiscale Fouten: Fouten in belastingaangiften kunnen leiden tot boetes en juridische problemen. Met onze begeleiding leer je hoe je deze risico’s kunt minimaliseren en onaangename verrassingen kunt voorkomen. \nBouw zekerheid op: Door te begrijpen hoe omzetbelasting en inkomstenbelasting werken\, krijg je meer financiële zekerheid voor je onderneming. Dit stelt je in staat om met vertrouwen te plannen en te groeien. \nNetwerk met mede-ondernemers: Deze masterclass biedt niet alleen waardevolle kennis\, maar ook de kans om te netwerken met andere startende ondernemers. Samenwerking en het delen van ervaringen kunnen van onschatbare waarde zijn. \nSchrijf je nu in voor de Masterclass over omzetbelasting en inkomstenbelasting en zet de eerste stap naar fiscaal begrip en succes!
URL:https://deondernemerswinkel.nl/event/masterclass-omzetbelasting-en-inkomstenbelasting/
ORGANIZER;CN="De Ondernemerswinkel":MAILTO:deondernemerswinkel@zoiszuidoost.nl
END:VEVENT
BEGIN:VEVENT
DTSTART;TZID=UTC:20231201T143000
DTEND;TZID=UTC:20231201T170000
DTSTAMP:20260424T161140
CREATED:20250115T092836Z
LAST-MODIFIED:20250115T092836Z
UID:529-1701441000-1701450000@deondernemerswinkel.nl
SUMMARY:Masterclass Jezelf Presenteren en Sales met Hustle & Heart Consultancy
DESCRIPTION:Masterclass Jezelf Presenteren en Sales met Hustle & Heart Consultancy\n  \n\n\n\n\nOntdek de Kracht van Overreding: Workshop Jezelf Presenteren en sales! \nBen jij een gedreven ondernemer? Wil je leren hoe je jezelf krachtig presenteert en moeiteloos je producten of diensten verkoopt? Dan is onze workshop precies wat jij nodig hebt! \n🚀 Wat Mag Je Verwachten? \nTijdens deze interactieve workshop onthullen we de geheimen van een overtuigende presentatie. Leer hoe je jouw unieke verhaal vertelt op een manier die aanspreekt tot jouw doelgroep. \n🔥 Waarom Deze Workshop? \nShenin Lebrun is de eigenaar van Hustle & Heart Consultancy. Zij heeft een bewezen staat van dienst als het gaat om begeleiden van mensen naar succes. Deze workshop speelt in op de specifieke uitdagingen waar jij als ondernemer voor staat. \nMis deze kans niet om jezelf te transformeren tot een zelfverzekerde en effectieve ondernemer. Klik op de inschrijfknop en reserveer jouw plek in deze unieke workshop. Jouw succes begint hier! \n 
URL:https://deondernemerswinkel.nl/event/masterclass-jezelf-presenteren-en-sales-met-hustle-heart-consultancy/
ORGANIZER;CN="De Ondernemerswinkel":MAILTO:deondernemerswinkel@zoiszuidoost.nl
END:VEVENT
END:VCALENDAR